BEGIN:VCALENDAR
VERSION:2.0
PRODID:-//The Old Boat Corner Community Centre - ECPv6.15.20//NONSGML v1.0//EN
CALSCALE:GREGORIAN
METHOD:PUBLISH
X-WR-CALNAME:The Old Boat Corner Community Centre
X-ORIGINAL-URL:https://theoldboat.co.uk
X-WR-CALDESC:Events for The Old Boat Corner Community Centre
REFRESH-INTERVAL;VALUE=DURATION:PT1H
X-Robots-Tag:noindex
X-PUBLISHED-TTL:PT1H
BEGIN:VTIMEZONE
TZID:Europe/London
BEGIN:DAYLIGHT
TZOFFSETFROM:+0000
TZOFFSETTO:+0100
TZNAME:BST
DTSTART:20260329T010000
END:DAYLIGHT
BEGIN:STANDARD
TZOFFSETFROM:+0100
TZOFFSETTO:+0000
TZNAME:GMT
DTSTART:20261025T010000
END:STANDARD
BEGIN:DAYLIGHT
TZOFFSETFROM:+0000
TZOFFSETTO:+0100
TZNAME:BST
DTSTART:20270328T010000
END:DAYLIGHT
BEGIN:STANDARD
TZOFFSETFROM:+0100
TZOFFSETTO:+0000
TZNAME:GMT
DTSTART:20271031T010000
END:STANDARD
BEGIN:DAYLIGHT
TZOFFSETFROM:+0000
TZOFFSETTO:+0100
TZNAME:BST
DTSTART:20280326T010000
END:DAYLIGHT
BEGIN:STANDARD
TZOFFSETFROM:+0100
TZOFFSETTO:+0000
TZNAME:GMT
DTSTART:20281029T010000
END:STANDARD
END:VTIMEZONE
BEGIN:VEVENT
DTSTART;TZID=Europe/London:20270127T130000
DTEND;TZID=Europe/London:20270127T140000
DTSTAMP:20260426T043022
CREATED:20230906T110610Z
LAST-MODIFIED:20251212T135014Z
UID:10006974-1801054800-1801058400@theoldboat.co.uk
SUMMARY:International Women's Group
DESCRIPTION:Come and join this weekly group for women from diverse cultures and backgrounds and get support with things that you may need.
URL:https://theoldboat.co.uk/event/international-womens-group/2027-01-27/
LOCATION:The Old Boat Corner Community Centre\, Carden Hill\, Hollingbury\, Brighton\, East Sussex\, BN1 8GD\, United Kingdom
CATEGORIES:18+,Arts & Crafts,Community,Groups
ATTACH;FMTTYPE=application/pdf:https://theoldboat.co.uk/wp-content/uploads/2023/09/Untitled.pdf
ORGANIZER;CN="Old Boat Corner":MAILTO:info.oldboat@gmail.com
END:VEVENT
BEGIN:VEVENT
DTSTART;TZID=Europe/London:20270128T090000
DTEND;TZID=Europe/London:20270128T140000
DTSTAMP:20260426T043022
CREATED:20220208T142147Z
LAST-MODIFIED:20251212T134948Z
UID:10006502-1801126800-1801144800@theoldboat.co.uk
SUMMARY:Tumble Tots
DESCRIPTION:Fun physical play activity classes for babies\, toddlers and children aged 6 months – 7 years. \nOur progressive play programme is designed to develop your child’s physical skills. Using bespoke colourful equipment\, we focus on agility\, balance\, climbing and co-ordination\, which enhances brain development and builds confidence. \nEvery session is supervised by our amazing specially trained staff\, getting the best out of each child. Up until 3 years\, grown-ups participate as well so that parents\, carers and even grandparents can spend time with little ones as they develop. \nThe journey begins for babies from 6 months old who can sit up unaided.
URL:https://theoldboat.co.uk/event/tumble-tots/2027-01-28/
LOCATION:The Old Boat Corner Community Centre\, Carden Hill\, Hollingbury\, Brighton\, East Sussex\, BN1 8GD\, United Kingdom
CATEGORIES:Family,Groups,Kids,Parents & Babies,Toddlers,Under 4's,Under 5's
ATTACH;FMTTYPE=image/jpeg:https://theoldboat.co.uk/wp-content/uploads/2022/02/Tumble-Tots-Corporate-Photo-712.jpg
ORGANIZER;CN="James":MAILTO:brighton@tumbletots.com
END:VEVENT
BEGIN:VEVENT
DTSTART;TZID=Europe/London:20270129T190000
DTEND;TZID=Europe/London:20270129T203000
DTSTAMP:20260426T043022
CREATED:20230304T222347Z
LAST-MODIFIED:20251212T140644Z
UID:10007332-1801249200-1801254600@theoldboat.co.uk
SUMMARY:EDGE
DESCRIPTION:EDGE is evolved to create opportunities for adults with disabilities to promote and explore their creativity through physical\, social and mental activities.
URL:https://theoldboat.co.uk/event/edge/2027-01-29/
LOCATION:The Old Boat Corner Community Centre\, Carden Hill\, Hollingbury\, Brighton\, East Sussex\, BN1 8GD\, United Kingdom
CATEGORIES:18+,Community,Groups
ATTACH;FMTTYPE=image/jpeg:https://theoldboat.co.uk/wp-content/uploads/2023/03/Edge-Logo.jpg
ORGANIZER;CN="Zak Salvage":MAILTO:Info@edgeclub.co.uk
END:VEVENT
BEGIN:VEVENT
DTSTART;TZID=Europe/London:20270202T154500
DTEND;TZID=Europe/London:20270202T164500
DTSTAMP:20260426T043022
CREATED:20221105T201501Z
LAST-MODIFIED:20251212T135639Z
UID:10005436-1801583100-1801586700@theoldboat.co.uk
SUMMARY:Fencing Classes
DESCRIPTION:This great class\, run by the experienced Lewis is for 8-11 year olds this sessions is for beginners.
URL:https://theoldboat.co.uk/event/fencing-classes/2027-02-02/
LOCATION:The Old Boat Corner Community Centre\, Carden Hill\, Hollingbury\, Brighton\, East Sussex\, BN1 8GD\, United Kingdom
CATEGORIES:Groups,Kids,Sports
ORGANIZER;CN="Dragonhead Fencing":MAILTO:lewismcinley@gmail.com
END:VEVENT
BEGIN:VEVENT
DTSTART;TZID=Europe/London:20270203T130000
DTEND;TZID=Europe/London:20270203T140000
DTSTAMP:20260426T043022
CREATED:20230906T110610Z
LAST-MODIFIED:20251212T135014Z
UID:10006975-1801659600-1801663200@theoldboat.co.uk
SUMMARY:International Women's Group
DESCRIPTION:Come and join this weekly group for women from diverse cultures and backgrounds and get support with things that you may need.
URL:https://theoldboat.co.uk/event/international-womens-group/2027-02-03/
LOCATION:The Old Boat Corner Community Centre\, Carden Hill\, Hollingbury\, Brighton\, East Sussex\, BN1 8GD\, United Kingdom
CATEGORIES:18+,Arts & Crafts,Community,Groups
ATTACH;FMTTYPE=application/pdf:https://theoldboat.co.uk/wp-content/uploads/2023/09/Untitled.pdf
ORGANIZER;CN="Old Boat Corner":MAILTO:info.oldboat@gmail.com
END:VEVENT
BEGIN:VEVENT
DTSTART;TZID=Europe/London:20270204T090000
DTEND;TZID=Europe/London:20270204T140000
DTSTAMP:20260426T043022
CREATED:20220208T142147Z
LAST-MODIFIED:20251212T134948Z
UID:10006503-1801731600-1801749600@theoldboat.co.uk
SUMMARY:Tumble Tots
DESCRIPTION:Fun physical play activity classes for babies\, toddlers and children aged 6 months – 7 years. \nOur progressive play programme is designed to develop your child’s physical skills. Using bespoke colourful equipment\, we focus on agility\, balance\, climbing and co-ordination\, which enhances brain development and builds confidence. \nEvery session is supervised by our amazing specially trained staff\, getting the best out of each child. Up until 3 years\, grown-ups participate as well so that parents\, carers and even grandparents can spend time with little ones as they develop. \nThe journey begins for babies from 6 months old who can sit up unaided.
URL:https://theoldboat.co.uk/event/tumble-tots/2027-02-04/
LOCATION:The Old Boat Corner Community Centre\, Carden Hill\, Hollingbury\, Brighton\, East Sussex\, BN1 8GD\, United Kingdom
CATEGORIES:Family,Groups,Kids,Parents & Babies,Toddlers,Under 4's,Under 5's
ATTACH;FMTTYPE=image/jpeg:https://theoldboat.co.uk/wp-content/uploads/2022/02/Tumble-Tots-Corporate-Photo-712.jpg
ORGANIZER;CN="James":MAILTO:brighton@tumbletots.com
END:VEVENT
BEGIN:VEVENT
DTSTART;TZID=Europe/London:20270205T190000
DTEND;TZID=Europe/London:20270205T203000
DTSTAMP:20260426T043022
CREATED:20230304T222347Z
LAST-MODIFIED:20251212T140644Z
UID:10007333-1801854000-1801859400@theoldboat.co.uk
SUMMARY:EDGE
DESCRIPTION:EDGE is evolved to create opportunities for adults with disabilities to promote and explore their creativity through physical\, social and mental activities.
URL:https://theoldboat.co.uk/event/edge/2027-02-05/
LOCATION:The Old Boat Corner Community Centre\, Carden Hill\, Hollingbury\, Brighton\, East Sussex\, BN1 8GD\, United Kingdom
CATEGORIES:18+,Community,Groups
ATTACH;FMTTYPE=image/jpeg:https://theoldboat.co.uk/wp-content/uploads/2023/03/Edge-Logo.jpg
ORGANIZER;CN="Zak Salvage":MAILTO:Info@edgeclub.co.uk
END:VEVENT
BEGIN:VEVENT
DTSTART;TZID=Europe/London:20270209T154500
DTEND;TZID=Europe/London:20270209T164500
DTSTAMP:20260426T043022
CREATED:20221105T201501Z
LAST-MODIFIED:20251212T135639Z
UID:10005437-1802187900-1802191500@theoldboat.co.uk
SUMMARY:Fencing Classes
DESCRIPTION:This great class\, run by the experienced Lewis is for 8-11 year olds this sessions is for beginners.
URL:https://theoldboat.co.uk/event/fencing-classes/2027-02-09/
LOCATION:The Old Boat Corner Community Centre\, Carden Hill\, Hollingbury\, Brighton\, East Sussex\, BN1 8GD\, United Kingdom
CATEGORIES:Groups,Kids,Sports
ORGANIZER;CN="Dragonhead Fencing":MAILTO:lewismcinley@gmail.com
END:VEVENT
BEGIN:VEVENT
DTSTART;TZID=Europe/London:20270210T130000
DTEND;TZID=Europe/London:20270210T140000
DTSTAMP:20260426T043022
CREATED:20230906T110610Z
LAST-MODIFIED:20251212T135014Z
UID:10006976-1802264400-1802268000@theoldboat.co.uk
SUMMARY:International Women's Group
DESCRIPTION:Come and join this weekly group for women from diverse cultures and backgrounds and get support with things that you may need.
URL:https://theoldboat.co.uk/event/international-womens-group/2027-02-10/
LOCATION:The Old Boat Corner Community Centre\, Carden Hill\, Hollingbury\, Brighton\, East Sussex\, BN1 8GD\, United Kingdom
CATEGORIES:18+,Arts & Crafts,Community,Groups
ATTACH;FMTTYPE=application/pdf:https://theoldboat.co.uk/wp-content/uploads/2023/09/Untitled.pdf
ORGANIZER;CN="Old Boat Corner":MAILTO:info.oldboat@gmail.com
END:VEVENT
BEGIN:VEVENT
DTSTART;TZID=Europe/London:20270211T090000
DTEND;TZID=Europe/London:20270211T140000
DTSTAMP:20260426T043022
CREATED:20220208T142147Z
LAST-MODIFIED:20251212T134948Z
UID:10006504-1802336400-1802354400@theoldboat.co.uk
SUMMARY:Tumble Tots
DESCRIPTION:Fun physical play activity classes for babies\, toddlers and children aged 6 months – 7 years. \nOur progressive play programme is designed to develop your child’s physical skills. Using bespoke colourful equipment\, we focus on agility\, balance\, climbing and co-ordination\, which enhances brain development and builds confidence. \nEvery session is supervised by our amazing specially trained staff\, getting the best out of each child. Up until 3 years\, grown-ups participate as well so that parents\, carers and even grandparents can spend time with little ones as they develop. \nThe journey begins for babies from 6 months old who can sit up unaided.
URL:https://theoldboat.co.uk/event/tumble-tots/2027-02-11/
LOCATION:The Old Boat Corner Community Centre\, Carden Hill\, Hollingbury\, Brighton\, East Sussex\, BN1 8GD\, United Kingdom
CATEGORIES:Family,Groups,Kids,Parents & Babies,Toddlers,Under 4's,Under 5's
ATTACH;FMTTYPE=image/jpeg:https://theoldboat.co.uk/wp-content/uploads/2022/02/Tumble-Tots-Corporate-Photo-712.jpg
ORGANIZER;CN="James":MAILTO:brighton@tumbletots.com
END:VEVENT
BEGIN:VEVENT
DTSTART;TZID=Europe/London:20270212T190000
DTEND;TZID=Europe/London:20270212T203000
DTSTAMP:20260426T043022
CREATED:20230304T222347Z
LAST-MODIFIED:20251212T140644Z
UID:10007334-1802458800-1802464200@theoldboat.co.uk
SUMMARY:EDGE
DESCRIPTION:EDGE is evolved to create opportunities for adults with disabilities to promote and explore their creativity through physical\, social and mental activities.
URL:https://theoldboat.co.uk/event/edge/2027-02-12/
LOCATION:The Old Boat Corner Community Centre\, Carden Hill\, Hollingbury\, Brighton\, East Sussex\, BN1 8GD\, United Kingdom
CATEGORIES:18+,Community,Groups
ATTACH;FMTTYPE=image/jpeg:https://theoldboat.co.uk/wp-content/uploads/2023/03/Edge-Logo.jpg
ORGANIZER;CN="Zak Salvage":MAILTO:Info@edgeclub.co.uk
END:VEVENT
BEGIN:VEVENT
DTSTART;TZID=Europe/London:20270216T154500
DTEND;TZID=Europe/London:20270216T164500
DTSTAMP:20260426T043022
CREATED:20221105T201501Z
LAST-MODIFIED:20251212T135639Z
UID:10005438-1802792700-1802796300@theoldboat.co.uk
SUMMARY:Fencing Classes
DESCRIPTION:This great class\, run by the experienced Lewis is for 8-11 year olds this sessions is for beginners.
URL:https://theoldboat.co.uk/event/fencing-classes/2027-02-16/
LOCATION:The Old Boat Corner Community Centre\, Carden Hill\, Hollingbury\, Brighton\, East Sussex\, BN1 8GD\, United Kingdom
CATEGORIES:Groups,Kids,Sports
ORGANIZER;CN="Dragonhead Fencing":MAILTO:lewismcinley@gmail.com
END:VEVENT
BEGIN:VEVENT
DTSTART;TZID=Europe/London:20270217T130000
DTEND;TZID=Europe/London:20270217T140000
DTSTAMP:20260426T043022
CREATED:20230906T110610Z
LAST-MODIFIED:20251212T135014Z
UID:10006977-1802869200-1802872800@theoldboat.co.uk
SUMMARY:International Women's Group
DESCRIPTION:Come and join this weekly group for women from diverse cultures and backgrounds and get support with things that you may need.
URL:https://theoldboat.co.uk/event/international-womens-group/2027-02-17/
LOCATION:The Old Boat Corner Community Centre\, Carden Hill\, Hollingbury\, Brighton\, East Sussex\, BN1 8GD\, United Kingdom
CATEGORIES:18+,Arts & Crafts,Community,Groups
ATTACH;FMTTYPE=application/pdf:https://theoldboat.co.uk/wp-content/uploads/2023/09/Untitled.pdf
ORGANIZER;CN="Old Boat Corner":MAILTO:info.oldboat@gmail.com
END:VEVENT
BEGIN:VEVENT
DTSTART;TZID=Europe/London:20270218T090000
DTEND;TZID=Europe/London:20270218T140000
DTSTAMP:20260426T043022
CREATED:20220208T142147Z
LAST-MODIFIED:20251212T134948Z
UID:10006505-1802941200-1802959200@theoldboat.co.uk
SUMMARY:Tumble Tots
DESCRIPTION:Fun physical play activity classes for babies\, toddlers and children aged 6 months – 7 years. \nOur progressive play programme is designed to develop your child’s physical skills. Using bespoke colourful equipment\, we focus on agility\, balance\, climbing and co-ordination\, which enhances brain development and builds confidence. \nEvery session is supervised by our amazing specially trained staff\, getting the best out of each child. Up until 3 years\, grown-ups participate as well so that parents\, carers and even grandparents can spend time with little ones as they develop. \nThe journey begins for babies from 6 months old who can sit up unaided.
URL:https://theoldboat.co.uk/event/tumble-tots/2027-02-18/
LOCATION:The Old Boat Corner Community Centre\, Carden Hill\, Hollingbury\, Brighton\, East Sussex\, BN1 8GD\, United Kingdom
CATEGORIES:Family,Groups,Kids,Parents & Babies,Toddlers,Under 4's,Under 5's
ATTACH;FMTTYPE=image/jpeg:https://theoldboat.co.uk/wp-content/uploads/2022/02/Tumble-Tots-Corporate-Photo-712.jpg
ORGANIZER;CN="James":MAILTO:brighton@tumbletots.com
END:VEVENT
BEGIN:VEVENT
DTSTART;TZID=Europe/London:20270219T190000
DTEND;TZID=Europe/London:20270219T203000
DTSTAMP:20260426T043022
CREATED:20230304T222347Z
LAST-MODIFIED:20251212T140644Z
UID:10007335-1803063600-1803069000@theoldboat.co.uk
SUMMARY:EDGE
DESCRIPTION:EDGE is evolved to create opportunities for adults with disabilities to promote and explore their creativity through physical\, social and mental activities.
URL:https://theoldboat.co.uk/event/edge/2027-02-19/
LOCATION:The Old Boat Corner Community Centre\, Carden Hill\, Hollingbury\, Brighton\, East Sussex\, BN1 8GD\, United Kingdom
CATEGORIES:18+,Community,Groups
ATTACH;FMTTYPE=image/jpeg:https://theoldboat.co.uk/wp-content/uploads/2023/03/Edge-Logo.jpg
ORGANIZER;CN="Zak Salvage":MAILTO:Info@edgeclub.co.uk
END:VEVENT
BEGIN:VEVENT
DTSTART;TZID=Europe/London:20270223T154500
DTEND;TZID=Europe/London:20270223T164500
DTSTAMP:20260426T043022
CREATED:20221105T201501Z
LAST-MODIFIED:20251212T135639Z
UID:10005439-1803397500-1803401100@theoldboat.co.uk
SUMMARY:Fencing Classes
DESCRIPTION:This great class\, run by the experienced Lewis is for 8-11 year olds this sessions is for beginners.
URL:https://theoldboat.co.uk/event/fencing-classes/2027-02-23/
LOCATION:The Old Boat Corner Community Centre\, Carden Hill\, Hollingbury\, Brighton\, East Sussex\, BN1 8GD\, United Kingdom
CATEGORIES:Groups,Kids,Sports
ORGANIZER;CN="Dragonhead Fencing":MAILTO:lewismcinley@gmail.com
END:VEVENT
BEGIN:VEVENT
DTSTART;TZID=Europe/London:20270224T130000
DTEND;TZID=Europe/London:20270224T140000
DTSTAMP:20260426T043022
CREATED:20230906T110610Z
LAST-MODIFIED:20251212T135014Z
UID:10006978-1803474000-1803477600@theoldboat.co.uk
SUMMARY:International Women's Group
DESCRIPTION:Come and join this weekly group for women from diverse cultures and backgrounds and get support with things that you may need.
URL:https://theoldboat.co.uk/event/international-womens-group/2027-02-24/
LOCATION:The Old Boat Corner Community Centre\, Carden Hill\, Hollingbury\, Brighton\, East Sussex\, BN1 8GD\, United Kingdom
CATEGORIES:18+,Arts & Crafts,Community,Groups
ATTACH;FMTTYPE=application/pdf:https://theoldboat.co.uk/wp-content/uploads/2023/09/Untitled.pdf
ORGANIZER;CN="Old Boat Corner":MAILTO:info.oldboat@gmail.com
END:VEVENT
BEGIN:VEVENT
DTSTART;TZID=Europe/London:20270225T090000
DTEND;TZID=Europe/London:20270225T140000
DTSTAMP:20260426T043022
CREATED:20220208T142147Z
LAST-MODIFIED:20251212T134948Z
UID:10006506-1803546000-1803564000@theoldboat.co.uk
SUMMARY:Tumble Tots
DESCRIPTION:Fun physical play activity classes for babies\, toddlers and children aged 6 months – 7 years. \nOur progressive play programme is designed to develop your child’s physical skills. Using bespoke colourful equipment\, we focus on agility\, balance\, climbing and co-ordination\, which enhances brain development and builds confidence. \nEvery session is supervised by our amazing specially trained staff\, getting the best out of each child. Up until 3 years\, grown-ups participate as well so that parents\, carers and even grandparents can spend time with little ones as they develop. \nThe journey begins for babies from 6 months old who can sit up unaided.
URL:https://theoldboat.co.uk/event/tumble-tots/2027-02-25/
LOCATION:The Old Boat Corner Community Centre\, Carden Hill\, Hollingbury\, Brighton\, East Sussex\, BN1 8GD\, United Kingdom
CATEGORIES:Family,Groups,Kids,Parents & Babies,Toddlers,Under 4's,Under 5's
ATTACH;FMTTYPE=image/jpeg:https://theoldboat.co.uk/wp-content/uploads/2022/02/Tumble-Tots-Corporate-Photo-712.jpg
ORGANIZER;CN="James":MAILTO:brighton@tumbletots.com
END:VEVENT
BEGIN:VEVENT
DTSTART;TZID=Europe/London:20270226T190000
DTEND;TZID=Europe/London:20270226T203000
DTSTAMP:20260426T043022
CREATED:20230304T222347Z
LAST-MODIFIED:20251212T140644Z
UID:10007336-1803668400-1803673800@theoldboat.co.uk
SUMMARY:EDGE
DESCRIPTION:EDGE is evolved to create opportunities for adults with disabilities to promote and explore their creativity through physical\, social and mental activities.
URL:https://theoldboat.co.uk/event/edge/2027-02-26/
LOCATION:The Old Boat Corner Community Centre\, Carden Hill\, Hollingbury\, Brighton\, East Sussex\, BN1 8GD\, United Kingdom
CATEGORIES:18+,Community,Groups
ATTACH;FMTTYPE=image/jpeg:https://theoldboat.co.uk/wp-content/uploads/2023/03/Edge-Logo.jpg
ORGANIZER;CN="Zak Salvage":MAILTO:Info@edgeclub.co.uk
END:VEVENT
BEGIN:VEVENT
DTSTART;TZID=Europe/London:20270302T154500
DTEND;TZID=Europe/London:20270302T164500
DTSTAMP:20260426T043022
CREATED:20221105T201501Z
LAST-MODIFIED:20251212T135639Z
UID:10005440-1804002300-1804005900@theoldboat.co.uk
SUMMARY:Fencing Classes
DESCRIPTION:This great class\, run by the experienced Lewis is for 8-11 year olds this sessions is for beginners.
URL:https://theoldboat.co.uk/event/fencing-classes/2027-03-02/
LOCATION:The Old Boat Corner Community Centre\, Carden Hill\, Hollingbury\, Brighton\, East Sussex\, BN1 8GD\, United Kingdom
CATEGORIES:Groups,Kids,Sports
ORGANIZER;CN="Dragonhead Fencing":MAILTO:lewismcinley@gmail.com
END:VEVENT
BEGIN:VEVENT
DTSTART;TZID=Europe/London:20270303T130000
DTEND;TZID=Europe/London:20270303T140000
DTSTAMP:20260426T043022
CREATED:20230906T110610Z
LAST-MODIFIED:20251212T135014Z
UID:10006979-1804078800-1804082400@theoldboat.co.uk
SUMMARY:International Women's Group
DESCRIPTION:Come and join this weekly group for women from diverse cultures and backgrounds and get support with things that you may need.
URL:https://theoldboat.co.uk/event/international-womens-group/2027-03-03/
LOCATION:The Old Boat Corner Community Centre\, Carden Hill\, Hollingbury\, Brighton\, East Sussex\, BN1 8GD\, United Kingdom
CATEGORIES:18+,Arts & Crafts,Community,Groups
ATTACH;FMTTYPE=application/pdf:https://theoldboat.co.uk/wp-content/uploads/2023/09/Untitled.pdf
ORGANIZER;CN="Old Boat Corner":MAILTO:info.oldboat@gmail.com
END:VEVENT
BEGIN:VEVENT
DTSTART;TZID=Europe/London:20270304T090000
DTEND;TZID=Europe/London:20270304T140000
DTSTAMP:20260426T043022
CREATED:20220208T142147Z
LAST-MODIFIED:20251212T134948Z
UID:10006507-1804150800-1804168800@theoldboat.co.uk
SUMMARY:Tumble Tots
DESCRIPTION:Fun physical play activity classes for babies\, toddlers and children aged 6 months – 7 years. \nOur progressive play programme is designed to develop your child’s physical skills. Using bespoke colourful equipment\, we focus on agility\, balance\, climbing and co-ordination\, which enhances brain development and builds confidence. \nEvery session is supervised by our amazing specially trained staff\, getting the best out of each child. Up until 3 years\, grown-ups participate as well so that parents\, carers and even grandparents can spend time with little ones as they develop. \nThe journey begins for babies from 6 months old who can sit up unaided.
URL:https://theoldboat.co.uk/event/tumble-tots/2027-03-04/
LOCATION:The Old Boat Corner Community Centre\, Carden Hill\, Hollingbury\, Brighton\, East Sussex\, BN1 8GD\, United Kingdom
CATEGORIES:Family,Groups,Kids,Parents & Babies,Toddlers,Under 4's,Under 5's
ATTACH;FMTTYPE=image/jpeg:https://theoldboat.co.uk/wp-content/uploads/2022/02/Tumble-Tots-Corporate-Photo-712.jpg
ORGANIZER;CN="James":MAILTO:brighton@tumbletots.com
END:VEVENT
BEGIN:VEVENT
DTSTART;TZID=Europe/London:20270305T190000
DTEND;TZID=Europe/London:20270305T203000
DTSTAMP:20260426T043022
CREATED:20230304T222347Z
LAST-MODIFIED:20251212T140644Z
UID:10007337-1804273200-1804278600@theoldboat.co.uk
SUMMARY:EDGE
DESCRIPTION:EDGE is evolved to create opportunities for adults with disabilities to promote and explore their creativity through physical\, social and mental activities.
URL:https://theoldboat.co.uk/event/edge/2027-03-05/
LOCATION:The Old Boat Corner Community Centre\, Carden Hill\, Hollingbury\, Brighton\, East Sussex\, BN1 8GD\, United Kingdom
CATEGORIES:18+,Community,Groups
ATTACH;FMTTYPE=image/jpeg:https://theoldboat.co.uk/wp-content/uploads/2023/03/Edge-Logo.jpg
ORGANIZER;CN="Zak Salvage":MAILTO:Info@edgeclub.co.uk
END:VEVENT
BEGIN:VEVENT
DTSTART;TZID=Europe/London:20270309T154500
DTEND;TZID=Europe/London:20270309T164500
DTSTAMP:20260426T043022
CREATED:20221105T201501Z
LAST-MODIFIED:20251212T135639Z
UID:10005441-1804607100-1804610700@theoldboat.co.uk
SUMMARY:Fencing Classes
DESCRIPTION:This great class\, run by the experienced Lewis is for 8-11 year olds this sessions is for beginners.
URL:https://theoldboat.co.uk/event/fencing-classes/2027-03-09/
LOCATION:The Old Boat Corner Community Centre\, Carden Hill\, Hollingbury\, Brighton\, East Sussex\, BN1 8GD\, United Kingdom
CATEGORIES:Groups,Kids,Sports
ORGANIZER;CN="Dragonhead Fencing":MAILTO:lewismcinley@gmail.com
END:VEVENT
BEGIN:VEVENT
DTSTART;TZID=Europe/London:20270310T130000
DTEND;TZID=Europe/London:20270310T140000
DTSTAMP:20260426T043022
CREATED:20230906T110610Z
LAST-MODIFIED:20251212T135014Z
UID:10006980-1804683600-1804687200@theoldboat.co.uk
SUMMARY:International Women's Group
DESCRIPTION:Come and join this weekly group for women from diverse cultures and backgrounds and get support with things that you may need.
URL:https://theoldboat.co.uk/event/international-womens-group/2027-03-10/
LOCATION:The Old Boat Corner Community Centre\, Carden Hill\, Hollingbury\, Brighton\, East Sussex\, BN1 8GD\, United Kingdom
CATEGORIES:18+,Arts & Crafts,Community,Groups
ATTACH;FMTTYPE=application/pdf:https://theoldboat.co.uk/wp-content/uploads/2023/09/Untitled.pdf
ORGANIZER;CN="Old Boat Corner":MAILTO:info.oldboat@gmail.com
END:VEVENT
BEGIN:VEVENT
DTSTART;TZID=Europe/London:20270311T090000
DTEND;TZID=Europe/London:20270311T140000
DTSTAMP:20260426T043022
CREATED:20220208T142147Z
LAST-MODIFIED:20251212T134948Z
UID:10006508-1804755600-1804773600@theoldboat.co.uk
SUMMARY:Tumble Tots
DESCRIPTION:Fun physical play activity classes for babies\, toddlers and children aged 6 months – 7 years. \nOur progressive play programme is designed to develop your child’s physical skills. Using bespoke colourful equipment\, we focus on agility\, balance\, climbing and co-ordination\, which enhances brain development and builds confidence. \nEvery session is supervised by our amazing specially trained staff\, getting the best out of each child. Up until 3 years\, grown-ups participate as well so that parents\, carers and even grandparents can spend time with little ones as they develop. \nThe journey begins for babies from 6 months old who can sit up unaided.
URL:https://theoldboat.co.uk/event/tumble-tots/2027-03-11/
LOCATION:The Old Boat Corner Community Centre\, Carden Hill\, Hollingbury\, Brighton\, East Sussex\, BN1 8GD\, United Kingdom
CATEGORIES:Family,Groups,Kids,Parents & Babies,Toddlers,Under 4's,Under 5's
ATTACH;FMTTYPE=image/jpeg:https://theoldboat.co.uk/wp-content/uploads/2022/02/Tumble-Tots-Corporate-Photo-712.jpg
ORGANIZER;CN="James":MAILTO:brighton@tumbletots.com
END:VEVENT
BEGIN:VEVENT
DTSTART;TZID=Europe/London:20270312T190000
DTEND;TZID=Europe/London:20270312T203000
DTSTAMP:20260426T043022
CREATED:20230304T222347Z
LAST-MODIFIED:20251212T140644Z
UID:10007338-1804878000-1804883400@theoldboat.co.uk
SUMMARY:EDGE
DESCRIPTION:EDGE is evolved to create opportunities for adults with disabilities to promote and explore their creativity through physical\, social and mental activities.
URL:https://theoldboat.co.uk/event/edge/2027-03-12/
LOCATION:The Old Boat Corner Community Centre\, Carden Hill\, Hollingbury\, Brighton\, East Sussex\, BN1 8GD\, United Kingdom
CATEGORIES:18+,Community,Groups
ATTACH;FMTTYPE=image/jpeg:https://theoldboat.co.uk/wp-content/uploads/2023/03/Edge-Logo.jpg
ORGANIZER;CN="Zak Salvage":MAILTO:Info@edgeclub.co.uk
END:VEVENT
BEGIN:VEVENT
DTSTART;TZID=Europe/London:20270316T154500
DTEND;TZID=Europe/London:20270316T164500
DTSTAMP:20260426T043022
CREATED:20221105T201501Z
LAST-MODIFIED:20251212T135639Z
UID:10005442-1805211900-1805215500@theoldboat.co.uk
SUMMARY:Fencing Classes
DESCRIPTION:This great class\, run by the experienced Lewis is for 8-11 year olds this sessions is for beginners.
URL:https://theoldboat.co.uk/event/fencing-classes/2027-03-16/
LOCATION:The Old Boat Corner Community Centre\, Carden Hill\, Hollingbury\, Brighton\, East Sussex\, BN1 8GD\, United Kingdom
CATEGORIES:Groups,Kids,Sports
ORGANIZER;CN="Dragonhead Fencing":MAILTO:lewismcinley@gmail.com
END:VEVENT
BEGIN:VEVENT
DTSTART;TZID=Europe/London:20270317T130000
DTEND;TZID=Europe/London:20270317T140000
DTSTAMP:20260426T043022
CREATED:20230906T110610Z
LAST-MODIFIED:20251212T135014Z
UID:10006981-1805288400-1805292000@theoldboat.co.uk
SUMMARY:International Women's Group
DESCRIPTION:Come and join this weekly group for women from diverse cultures and backgrounds and get support with things that you may need.
URL:https://theoldboat.co.uk/event/international-womens-group/2027-03-17/
LOCATION:The Old Boat Corner Community Centre\, Carden Hill\, Hollingbury\, Brighton\, East Sussex\, BN1 8GD\, United Kingdom
CATEGORIES:18+,Arts & Crafts,Community,Groups
ATTACH;FMTTYPE=application/pdf:https://theoldboat.co.uk/wp-content/uploads/2023/09/Untitled.pdf
ORGANIZER;CN="Old Boat Corner":MAILTO:info.oldboat@gmail.com
END:VEVENT
BEGIN:VEVENT
DTSTART;TZID=Europe/London:20270318T090000
DTEND;TZID=Europe/London:20270318T140000
DTSTAMP:20260426T043022
CREATED:20220208T142147Z
LAST-MODIFIED:20251212T134948Z
UID:10006509-1805360400-1805378400@theoldboat.co.uk
SUMMARY:Tumble Tots
DESCRIPTION:Fun physical play activity classes for babies\, toddlers and children aged 6 months – 7 years. \nOur progressive play programme is designed to develop your child’s physical skills. Using bespoke colourful equipment\, we focus on agility\, balance\, climbing and co-ordination\, which enhances brain development and builds confidence. \nEvery session is supervised by our amazing specially trained staff\, getting the best out of each child. Up until 3 years\, grown-ups participate as well so that parents\, carers and even grandparents can spend time with little ones as they develop. \nThe journey begins for babies from 6 months old who can sit up unaided.
URL:https://theoldboat.co.uk/event/tumble-tots/2027-03-18/
LOCATION:The Old Boat Corner Community Centre\, Carden Hill\, Hollingbury\, Brighton\, East Sussex\, BN1 8GD\, United Kingdom
CATEGORIES:Family,Groups,Kids,Parents & Babies,Toddlers,Under 4's,Under 5's
ATTACH;FMTTYPE=image/jpeg:https://theoldboat.co.uk/wp-content/uploads/2022/02/Tumble-Tots-Corporate-Photo-712.jpg
ORGANIZER;CN="James":MAILTO:brighton@tumbletots.com
END:VEVENT
END:VCALENDAR