BEGIN:VCALENDAR
VERSION:2.0
PRODID:-//The Old Boat Corner Community Centre - ECPv6.15.20//NONSGML v1.0//EN
CALSCALE:GREGORIAN
METHOD:PUBLISH
X-ORIGINAL-URL:https://theoldboat.co.uk
X-WR-CALDESC:Events for The Old Boat Corner Community Centre
REFRESH-INTERVAL;VALUE=DURATION:PT1H
X-Robots-Tag:noindex
X-PUBLISHED-TTL:PT1H
BEGIN:VTIMEZONE
TZID:Europe/London
BEGIN:DAYLIGHT
TZOFFSETFROM:+0000
TZOFFSETTO:+0100
TZNAME:BST
DTSTART:20250330T010000
END:DAYLIGHT
BEGIN:STANDARD
TZOFFSETFROM:+0100
TZOFFSETTO:+0000
TZNAME:GMT
DTSTART:20251026T010000
END:STANDARD
BEGIN:DAYLIGHT
TZOFFSETFROM:+0000
TZOFFSETTO:+0100
TZNAME:BST
DTSTART:20260329T010000
END:DAYLIGHT
BEGIN:STANDARD
TZOFFSETFROM:+0100
TZOFFSETTO:+0000
TZNAME:GMT
DTSTART:20261025T010000
END:STANDARD
BEGIN:DAYLIGHT
TZOFFSETFROM:+0000
TZOFFSETTO:+0100
TZNAME:BST
DTSTART:20270328T010000
END:DAYLIGHT
BEGIN:STANDARD
TZOFFSETFROM:+0100
TZOFFSETTO:+0000
TZNAME:GMT
DTSTART:20271031T010000
END:STANDARD
END:VTIMEZONE
BEGIN:VEVENT
DTSTART;TZID=Europe/London:20260803T093000
DTEND;TZID=Europe/London:20260803T120000
DTSTAMP:20260420T053517
CREATED:20260109T125207Z
LAST-MODIFIED:20260226T133922Z
UID:10020540-1785749400-1785758400@theoldboat.co.uk
SUMMARY:Soft Play\, arts and crafts
DESCRIPTION:Every Monday morning from 9.30am – 12pm. A selection of soft play\, arts\, crafts\, early learning toys\, puzzles and outdoor fun hosted by our very own Gill. u00a0 Cash or Card accepted\, no booking requiredFree onsite/on road parkingDiscounted hot drink with entryu00a0 Under 5’s only
URL:https://theoldboat.co.uk/event/soft-play-arts-and-crafts/2026-08-03/
LOCATION:The Old Boat Corner Community Centre\, Carden Hill\, Hollingbury\, Brighton\, East Sussex\, BN1 8GD\, United Kingdom
CATEGORIES:Kids,Under 5's
ATTACH;FMTTYPE=image/png:https://theoldboat.co.uk/wp-content/uploads/2026/01/image.png
ORGANIZER;CN="Reyna Kothari":MAILTO:info.oldboat@gmail.com
END:VEVENT
BEGIN:VEVENT
DTSTART;TZID=Europe/London:20260804T093000
DTEND;TZID=Europe/London:20260804T120000
DTSTAMP:20260420T053517
CREATED:20211009T203535Z
LAST-MODIFIED:20251212T140149Z
UID:10018785-1785835800-1785844800@theoldboat.co.uk
SUMMARY:Soft Play
DESCRIPTION:Every Monday morning from 9.30am – 12pm. A selection of soft play\, arts\, crafts\, early learning toys\, puzzles and outdoor fun hosted by our very own Gill. u00a0 Cash or Card accepted\, no booking requiredFree onsite/on road parkingDiscounted hot drink with entryu00a0 Under 5’s only
URL:https://theoldboat.co.uk/event/soft-play/2026-08-04/
LOCATION:The Old Boat Corner Community Centre\, Carden Hill\, Hollingbury\, Brighton\, East Sussex\, BN1 8GD\, United Kingdom
CATEGORIES:Kids,Under 5's
ATTACH;FMTTYPE=image/png:https://theoldboat.co.uk/wp-content/uploads/2021/10/Soft-Play-Image-.png
ORGANIZER;CN="Reyna Kothari":MAILTO:info.oldboat@gmail.com
END:VEVENT
BEGIN:VEVENT
DTSTART;TZID=Europe/London:20260804T093000
DTEND;TZID=Europe/London:20260804T130000
DTSTAMP:20260420T053517
CREATED:20220208T180930Z
LAST-MODIFIED:20251212T140534Z
UID:10005055-1785835800-1785848400@theoldboat.co.uk
SUMMARY:Childminder Group
DESCRIPTION:Every Monday morning from 9.30am – 12pm. A selection of soft play\, arts\, crafts\, early learning toys\, puzzles and outdoor fun hosted by our very own Gill. u00a0 Cash or Card accepted\, no booking requiredFree onsite/on road parkingDiscounted hot drink with entryu00a0 Under 5’s only
URL:https://theoldboat.co.uk/event/childminder-group/2026-08-04/
LOCATION:The Old Boat Corner Community Centre\, Carden Hill\, Hollingbury\, Brighton\, East Sussex\, BN1 8GD\, United Kingdom
CATEGORIES:Kids,Toddlers,Under 4's,Under 5's
ORGANIZER;CN="Theresa":MAILTO:terris1967@hotmail.com
END:VEVENT
BEGIN:VEVENT
DTSTART;TZID=Europe/London:20260805T093000
DTEND;TZID=Europe/London:20260805T120000
DTSTAMP:20260420T053517
CREATED:20220208T174754Z
LAST-MODIFIED:20251212T135951Z
UID:10018499-1785922200-1785931200@theoldboat.co.uk
SUMMARY:Soft Play
DESCRIPTION:Every Monday morning from 9.30am – 12pm. A selection of soft play\, arts\, crafts\, early learning toys\, puzzles and outdoor fun hosted by our very own Gill. u00a0 Cash or Card accepted\, no booking requiredFree onsite/on road parkingDiscounted hot drink with entryu00a0 Under 5’s only
URL:https://theoldboat.co.uk/event/soft-play-2/2026-08-05/
LOCATION:The Old Boat Corner Community Centre\, Carden Hill\, Hollingbury\, Brighton\, East Sussex\, BN1 8GD\, United Kingdom
CATEGORIES:Kids,Under 5's
ATTACH;FMTTYPE=image/png:https://theoldboat.co.uk/wp-content/uploads/2021/10/Soft-Play-Image-.png
END:VEVENT
BEGIN:VEVENT
DTSTART;TZID=Europe/London:20260806T100000
DTEND;TZID=Europe/London:20260806T150000
DTSTAMP:20260420T053517
CREATED:20220208T142147Z
LAST-MODIFIED:20251212T134948Z
UID:10006477-1786010400-1786028400@theoldboat.co.uk
SUMMARY:Tumble Tots
DESCRIPTION:Every Monday morning from 9.30am – 12pm. A selection of soft play\, arts\, crafts\, early learning toys\, puzzles and outdoor fun hosted by our very own Gill. u00a0 Cash or Card accepted\, no booking requiredFree onsite/on road parkingDiscounted hot drink with entryu00a0 Under 5’s only
URL:https://theoldboat.co.uk/event/tumble-tots/2026-08-06/
LOCATION:The Old Boat Corner Community Centre\, Carden Hill\, Hollingbury\, Brighton\, East Sussex\, BN1 8GD\, United Kingdom
CATEGORIES:Family,Groups,Kids,Parents & Babies,Toddlers,Under 4's,Under 5's
ATTACH;FMTTYPE=image/jpeg:https://theoldboat.co.uk/wp-content/uploads/2022/02/Tumble-Tots-Corporate-Photo-712.jpg
ORGANIZER;CN="James":MAILTO:brighton@tumbletots.com
END:VEVENT
BEGIN:VEVENT
DTSTART;TZID=Europe/London:20260810T093000
DTEND;TZID=Europe/London:20260810T120000
DTSTAMP:20260420T053517
CREATED:20260109T125207Z
LAST-MODIFIED:20260226T133922Z
UID:10020541-1786354200-1786363200@theoldboat.co.uk
SUMMARY:Soft Play\, arts and crafts
DESCRIPTION:Every Monday morning from 9.30am – 12pm. A selection of soft play\, arts\, crafts\, early learning toys\, puzzles and outdoor fun hosted by our very own Gill. u00a0 Cash or Card accepted\, no booking requiredFree onsite/on road parkingDiscounted hot drink with entryu00a0 Under 5’s only
URL:https://theoldboat.co.uk/event/soft-play-arts-and-crafts/2026-08-10/
LOCATION:The Old Boat Corner Community Centre\, Carden Hill\, Hollingbury\, Brighton\, East Sussex\, BN1 8GD\, United Kingdom
CATEGORIES:Kids,Under 5's
ATTACH;FMTTYPE=image/png:https://theoldboat.co.uk/wp-content/uploads/2026/01/image.png
ORGANIZER;CN="Reyna Kothari":MAILTO:info.oldboat@gmail.com
END:VEVENT
BEGIN:VEVENT
DTSTART;TZID=Europe/London:20260811T093000
DTEND;TZID=Europe/London:20260811T120000
DTSTAMP:20260420T053517
CREATED:20211009T203535Z
LAST-MODIFIED:20251212T140149Z
UID:10018786-1786440600-1786449600@theoldboat.co.uk
SUMMARY:Soft Play
DESCRIPTION:Every Monday morning from 9.30am – 12pm. A selection of soft play\, arts\, crafts\, early learning toys\, puzzles and outdoor fun hosted by our very own Gill. u00a0 Cash or Card accepted\, no booking requiredFree onsite/on road parkingDiscounted hot drink with entryu00a0 Under 5’s only
URL:https://theoldboat.co.uk/event/soft-play/2026-08-11/
LOCATION:The Old Boat Corner Community Centre\, Carden Hill\, Hollingbury\, Brighton\, East Sussex\, BN1 8GD\, United Kingdom
CATEGORIES:Kids,Under 5's
ATTACH;FMTTYPE=image/png:https://theoldboat.co.uk/wp-content/uploads/2021/10/Soft-Play-Image-.png
ORGANIZER;CN="Reyna Kothari":MAILTO:info.oldboat@gmail.com
END:VEVENT
BEGIN:VEVENT
DTSTART;TZID=Europe/London:20260811T093000
DTEND;TZID=Europe/London:20260811T130000
DTSTAMP:20260420T053517
CREATED:20220208T180930Z
LAST-MODIFIED:20251212T140534Z
UID:10005056-1786440600-1786453200@theoldboat.co.uk
SUMMARY:Childminder Group
DESCRIPTION:Every Monday morning from 9.30am – 12pm. A selection of soft play\, arts\, crafts\, early learning toys\, puzzles and outdoor fun hosted by our very own Gill. u00a0 Cash or Card accepted\, no booking requiredFree onsite/on road parkingDiscounted hot drink with entryu00a0 Under 5’s only
URL:https://theoldboat.co.uk/event/childminder-group/2026-08-11/
LOCATION:The Old Boat Corner Community Centre\, Carden Hill\, Hollingbury\, Brighton\, East Sussex\, BN1 8GD\, United Kingdom
CATEGORIES:Kids,Toddlers,Under 4's,Under 5's
ORGANIZER;CN="Theresa":MAILTO:terris1967@hotmail.com
END:VEVENT
BEGIN:VEVENT
DTSTART;TZID=Europe/London:20260812T093000
DTEND;TZID=Europe/London:20260812T120000
DTSTAMP:20260420T053517
CREATED:20220208T174754Z
LAST-MODIFIED:20251212T135951Z
UID:10018500-1786527000-1786536000@theoldboat.co.uk
SUMMARY:Soft Play
DESCRIPTION:Every Monday morning from 9.30am – 12pm. A selection of soft play\, arts\, crafts\, early learning toys\, puzzles and outdoor fun hosted by our very own Gill. u00a0 Cash or Card accepted\, no booking requiredFree onsite/on road parkingDiscounted hot drink with entryu00a0 Under 5’s only
URL:https://theoldboat.co.uk/event/soft-play-2/2026-08-12/
LOCATION:The Old Boat Corner Community Centre\, Carden Hill\, Hollingbury\, Brighton\, East Sussex\, BN1 8GD\, United Kingdom
CATEGORIES:Kids,Under 5's
ATTACH;FMTTYPE=image/png:https://theoldboat.co.uk/wp-content/uploads/2021/10/Soft-Play-Image-.png
END:VEVENT
BEGIN:VEVENT
DTSTART;TZID=Europe/London:20260813T100000
DTEND;TZID=Europe/London:20260813T150000
DTSTAMP:20260420T053517
CREATED:20220208T142147Z
LAST-MODIFIED:20251212T134948Z
UID:10006478-1786615200-1786633200@theoldboat.co.uk
SUMMARY:Tumble Tots
DESCRIPTION:Every Monday morning from 9.30am – 12pm. A selection of soft play\, arts\, crafts\, early learning toys\, puzzles and outdoor fun hosted by our very own Gill. u00a0 Cash or Card accepted\, no booking requiredFree onsite/on road parkingDiscounted hot drink with entryu00a0 Under 5’s only
URL:https://theoldboat.co.uk/event/tumble-tots/2026-08-13/
LOCATION:The Old Boat Corner Community Centre\, Carden Hill\, Hollingbury\, Brighton\, East Sussex\, BN1 8GD\, United Kingdom
CATEGORIES:Family,Groups,Kids,Parents & Babies,Toddlers,Under 4's,Under 5's
ATTACH;FMTTYPE=image/jpeg:https://theoldboat.co.uk/wp-content/uploads/2022/02/Tumble-Tots-Corporate-Photo-712.jpg
ORGANIZER;CN="James":MAILTO:brighton@tumbletots.com
END:VEVENT
BEGIN:VEVENT
DTSTART;TZID=Europe/London:20260817T093000
DTEND;TZID=Europe/London:20260817T120000
DTSTAMP:20260420T053517
CREATED:20260109T125207Z
LAST-MODIFIED:20260226T133922Z
UID:10020542-1786959000-1786968000@theoldboat.co.uk
SUMMARY:Soft Play\, arts and crafts
DESCRIPTION:Every Monday morning from 9.30am – 12pm. A selection of soft play\, arts\, crafts\, early learning toys\, puzzles and outdoor fun hosted by our very own Gill. u00a0 Cash or Card accepted\, no booking requiredFree onsite/on road parkingDiscounted hot drink with entryu00a0 Under 5’s only
URL:https://theoldboat.co.uk/event/soft-play-arts-and-crafts/2026-08-17/
LOCATION:The Old Boat Corner Community Centre\, Carden Hill\, Hollingbury\, Brighton\, East Sussex\, BN1 8GD\, United Kingdom
CATEGORIES:Kids,Under 5's
ATTACH;FMTTYPE=image/png:https://theoldboat.co.uk/wp-content/uploads/2026/01/image.png
ORGANIZER;CN="Reyna Kothari":MAILTO:info.oldboat@gmail.com
END:VEVENT
BEGIN:VEVENT
DTSTART;TZID=Europe/London:20260818T093000
DTEND;TZID=Europe/London:20260818T120000
DTSTAMP:20260420T053517
CREATED:20211009T203535Z
LAST-MODIFIED:20251212T140149Z
UID:10018787-1787045400-1787054400@theoldboat.co.uk
SUMMARY:Soft Play
DESCRIPTION:Every Monday morning from 9.30am – 12pm. A selection of soft play\, arts\, crafts\, early learning toys\, puzzles and outdoor fun hosted by our very own Gill. u00a0 Cash or Card accepted\, no booking requiredFree onsite/on road parkingDiscounted hot drink with entryu00a0 Under 5’s only
URL:https://theoldboat.co.uk/event/soft-play/2026-08-18/
LOCATION:The Old Boat Corner Community Centre\, Carden Hill\, Hollingbury\, Brighton\, East Sussex\, BN1 8GD\, United Kingdom
CATEGORIES:Kids,Under 5's
ATTACH;FMTTYPE=image/png:https://theoldboat.co.uk/wp-content/uploads/2021/10/Soft-Play-Image-.png
ORGANIZER;CN="Reyna Kothari":MAILTO:info.oldboat@gmail.com
END:VEVENT
BEGIN:VEVENT
DTSTART;TZID=Europe/London:20260818T093000
DTEND;TZID=Europe/London:20260818T130000
DTSTAMP:20260420T053517
CREATED:20220208T180930Z
LAST-MODIFIED:20251212T140534Z
UID:10005057-1787045400-1787058000@theoldboat.co.uk
SUMMARY:Childminder Group
DESCRIPTION:Every Monday morning from 9.30am – 12pm. A selection of soft play\, arts\, crafts\, early learning toys\, puzzles and outdoor fun hosted by our very own Gill. u00a0 Cash or Card accepted\, no booking requiredFree onsite/on road parkingDiscounted hot drink with entryu00a0 Under 5’s only
URL:https://theoldboat.co.uk/event/childminder-group/2026-08-18/
LOCATION:The Old Boat Corner Community Centre\, Carden Hill\, Hollingbury\, Brighton\, East Sussex\, BN1 8GD\, United Kingdom
CATEGORIES:Kids,Toddlers,Under 4's,Under 5's
ORGANIZER;CN="Theresa":MAILTO:terris1967@hotmail.com
END:VEVENT
BEGIN:VEVENT
DTSTART;TZID=Europe/London:20260819T093000
DTEND;TZID=Europe/London:20260819T120000
DTSTAMP:20260420T053517
CREATED:20220208T174754Z
LAST-MODIFIED:20251212T135951Z
UID:10018501-1787131800-1787140800@theoldboat.co.uk
SUMMARY:Soft Play
DESCRIPTION:Every Monday morning from 9.30am – 12pm. A selection of soft play\, arts\, crafts\, early learning toys\, puzzles and outdoor fun hosted by our very own Gill. u00a0 Cash or Card accepted\, no booking requiredFree onsite/on road parkingDiscounted hot drink with entryu00a0 Under 5’s only
URL:https://theoldboat.co.uk/event/soft-play-2/2026-08-19/
LOCATION:The Old Boat Corner Community Centre\, Carden Hill\, Hollingbury\, Brighton\, East Sussex\, BN1 8GD\, United Kingdom
CATEGORIES:Kids,Under 5's
ATTACH;FMTTYPE=image/png:https://theoldboat.co.uk/wp-content/uploads/2021/10/Soft-Play-Image-.png
END:VEVENT
BEGIN:VEVENT
DTSTART;TZID=Europe/London:20260820T100000
DTEND;TZID=Europe/London:20260820T150000
DTSTAMP:20260420T053517
CREATED:20220208T142147Z
LAST-MODIFIED:20251212T134948Z
UID:10006479-1787220000-1787238000@theoldboat.co.uk
SUMMARY:Tumble Tots
DESCRIPTION:Every Monday morning from 9.30am – 12pm. A selection of soft play\, arts\, crafts\, early learning toys\, puzzles and outdoor fun hosted by our very own Gill. u00a0 Cash or Card accepted\, no booking requiredFree onsite/on road parkingDiscounted hot drink with entryu00a0 Under 5’s only
URL:https://theoldboat.co.uk/event/tumble-tots/2026-08-20/
LOCATION:The Old Boat Corner Community Centre\, Carden Hill\, Hollingbury\, Brighton\, East Sussex\, BN1 8GD\, United Kingdom
CATEGORIES:Family,Groups,Kids,Parents & Babies,Toddlers,Under 4's,Under 5's
ATTACH;FMTTYPE=image/jpeg:https://theoldboat.co.uk/wp-content/uploads/2022/02/Tumble-Tots-Corporate-Photo-712.jpg
ORGANIZER;CN="James":MAILTO:brighton@tumbletots.com
END:VEVENT
BEGIN:VEVENT
DTSTART;TZID=Europe/London:20260824T093000
DTEND;TZID=Europe/London:20260824T120000
DTSTAMP:20260420T053517
CREATED:20260109T125207Z
LAST-MODIFIED:20260226T133922Z
UID:10020543-1787563800-1787572800@theoldboat.co.uk
SUMMARY:Soft Play\, arts and crafts
DESCRIPTION:Every Monday morning from 9.30am – 12pm. A selection of soft play\, arts\, crafts\, early learning toys\, puzzles and outdoor fun hosted by our very own Gill. u00a0 Cash or Card accepted\, no booking requiredFree onsite/on road parkingDiscounted hot drink with entryu00a0 Under 5’s only
URL:https://theoldboat.co.uk/event/soft-play-arts-and-crafts/2026-08-24/
LOCATION:The Old Boat Corner Community Centre\, Carden Hill\, Hollingbury\, Brighton\, East Sussex\, BN1 8GD\, United Kingdom
CATEGORIES:Kids,Under 5's
ATTACH;FMTTYPE=image/png:https://theoldboat.co.uk/wp-content/uploads/2026/01/image.png
ORGANIZER;CN="Reyna Kothari":MAILTO:info.oldboat@gmail.com
END:VEVENT
BEGIN:VEVENT
DTSTART;TZID=Europe/London:20260825T093000
DTEND;TZID=Europe/London:20260825T120000
DTSTAMP:20260420T053517
CREATED:20211009T203535Z
LAST-MODIFIED:20251212T140149Z
UID:10018788-1787650200-1787659200@theoldboat.co.uk
SUMMARY:Soft Play
DESCRIPTION:Every Monday morning from 9.30am – 12pm. A selection of soft play\, arts\, crafts\, early learning toys\, puzzles and outdoor fun hosted by our very own Gill. u00a0 Cash or Card accepted\, no booking requiredFree onsite/on road parkingDiscounted hot drink with entryu00a0 Under 5’s only
URL:https://theoldboat.co.uk/event/soft-play/2026-08-25/
LOCATION:The Old Boat Corner Community Centre\, Carden Hill\, Hollingbury\, Brighton\, East Sussex\, BN1 8GD\, United Kingdom
CATEGORIES:Kids,Under 5's
ATTACH;FMTTYPE=image/png:https://theoldboat.co.uk/wp-content/uploads/2021/10/Soft-Play-Image-.png
ORGANIZER;CN="Reyna Kothari":MAILTO:info.oldboat@gmail.com
END:VEVENT
BEGIN:VEVENT
DTSTART;TZID=Europe/London:20260825T093000
DTEND;TZID=Europe/London:20260825T130000
DTSTAMP:20260420T053517
CREATED:20220208T180930Z
LAST-MODIFIED:20251212T140534Z
UID:10005058-1787650200-1787662800@theoldboat.co.uk
SUMMARY:Childminder Group
DESCRIPTION:Every Monday morning from 9.30am – 12pm. A selection of soft play\, arts\, crafts\, early learning toys\, puzzles and outdoor fun hosted by our very own Gill. u00a0 Cash or Card accepted\, no booking requiredFree onsite/on road parkingDiscounted hot drink with entryu00a0 Under 5’s only
URL:https://theoldboat.co.uk/event/childminder-group/2026-08-25/
LOCATION:The Old Boat Corner Community Centre\, Carden Hill\, Hollingbury\, Brighton\, East Sussex\, BN1 8GD\, United Kingdom
CATEGORIES:Kids,Toddlers,Under 4's,Under 5's
ORGANIZER;CN="Theresa":MAILTO:terris1967@hotmail.com
END:VEVENT
BEGIN:VEVENT
DTSTART;TZID=Europe/London:20260826T093000
DTEND;TZID=Europe/London:20260826T120000
DTSTAMP:20260420T053517
CREATED:20220208T174754Z
LAST-MODIFIED:20251212T135951Z
UID:10018502-1787736600-1787745600@theoldboat.co.uk
SUMMARY:Soft Play
DESCRIPTION:Every Monday morning from 9.30am – 12pm. A selection of soft play\, arts\, crafts\, early learning toys\, puzzles and outdoor fun hosted by our very own Gill. u00a0 Cash or Card accepted\, no booking requiredFree onsite/on road parkingDiscounted hot drink with entryu00a0 Under 5’s only
URL:https://theoldboat.co.uk/event/soft-play-2/2026-08-26/
LOCATION:The Old Boat Corner Community Centre\, Carden Hill\, Hollingbury\, Brighton\, East Sussex\, BN1 8GD\, United Kingdom
CATEGORIES:Kids,Under 5's
ATTACH;FMTTYPE=image/png:https://theoldboat.co.uk/wp-content/uploads/2021/10/Soft-Play-Image-.png
END:VEVENT
BEGIN:VEVENT
DTSTART;TZID=Europe/London:20260827T100000
DTEND;TZID=Europe/London:20260827T150000
DTSTAMP:20260420T053517
CREATED:20220208T142147Z
LAST-MODIFIED:20251212T134948Z
UID:10006480-1787824800-1787842800@theoldboat.co.uk
SUMMARY:Tumble Tots
DESCRIPTION:Every Monday morning from 9.30am – 12pm. A selection of soft play\, arts\, crafts\, early learning toys\, puzzles and outdoor fun hosted by our very own Gill. u00a0 Cash or Card accepted\, no booking requiredFree onsite/on road parkingDiscounted hot drink with entryu00a0 Under 5’s only
URL:https://theoldboat.co.uk/event/tumble-tots/2026-08-27/
LOCATION:The Old Boat Corner Community Centre\, Carden Hill\, Hollingbury\, Brighton\, East Sussex\, BN1 8GD\, United Kingdom
CATEGORIES:Family,Groups,Kids,Parents & Babies,Toddlers,Under 4's,Under 5's
ATTACH;FMTTYPE=image/jpeg:https://theoldboat.co.uk/wp-content/uploads/2022/02/Tumble-Tots-Corporate-Photo-712.jpg
ORGANIZER;CN="James":MAILTO:brighton@tumbletots.com
END:VEVENT
BEGIN:VEVENT
DTSTART;TZID=Europe/London:20260831T093000
DTEND;TZID=Europe/London:20260831T120000
DTSTAMP:20260420T053518
CREATED:20260109T125207Z
LAST-MODIFIED:20260226T133922Z
UID:10020544-1788168600-1788177600@theoldboat.co.uk
SUMMARY:Soft Play\, arts and crafts
DESCRIPTION:Every Monday morning from 9.30am – 12pm. A selection of soft play\, arts\, crafts\, early learning toys\, puzzles and outdoor fun hosted by our very own Gill. u00a0 Cash or Card accepted\, no booking requiredFree onsite/on road parkingDiscounted hot drink with entryu00a0 Under 5’s only
URL:https://theoldboat.co.uk/event/soft-play-arts-and-crafts/2026-08-31/
LOCATION:The Old Boat Corner Community Centre\, Carden Hill\, Hollingbury\, Brighton\, East Sussex\, BN1 8GD\, United Kingdom
CATEGORIES:Kids,Under 5's
ATTACH;FMTTYPE=image/png:https://theoldboat.co.uk/wp-content/uploads/2026/01/image.png
ORGANIZER;CN="Reyna Kothari":MAILTO:info.oldboat@gmail.com
END:VEVENT
BEGIN:VEVENT
DTSTART;TZID=Europe/London:20260901T093000
DTEND;TZID=Europe/London:20260901T120000
DTSTAMP:20260420T053518
CREATED:20211009T203535Z
LAST-MODIFIED:20251212T140149Z
UID:10018789-1788255000-1788264000@theoldboat.co.uk
SUMMARY:Soft Play
DESCRIPTION:Every Monday morning from 9.30am – 12pm. A selection of soft play\, arts\, crafts\, early learning toys\, puzzles and outdoor fun hosted by our very own Gill. u00a0 Cash or Card accepted\, no booking requiredFree onsite/on road parkingDiscounted hot drink with entryu00a0 Under 5’s only
URL:https://theoldboat.co.uk/event/soft-play/2026-09-01/
LOCATION:The Old Boat Corner Community Centre\, Carden Hill\, Hollingbury\, Brighton\, East Sussex\, BN1 8GD\, United Kingdom
CATEGORIES:Kids,Under 5's
ATTACH;FMTTYPE=image/png:https://theoldboat.co.uk/wp-content/uploads/2021/10/Soft-Play-Image-.png
ORGANIZER;CN="Reyna Kothari":MAILTO:info.oldboat@gmail.com
END:VEVENT
BEGIN:VEVENT
DTSTART;TZID=Europe/London:20260901T093000
DTEND;TZID=Europe/London:20260901T130000
DTSTAMP:20260420T053518
CREATED:20220208T180930Z
LAST-MODIFIED:20251212T140534Z
UID:10005059-1788255000-1788267600@theoldboat.co.uk
SUMMARY:Childminder Group
DESCRIPTION:Every Monday morning from 9.30am – 12pm. A selection of soft play\, arts\, crafts\, early learning toys\, puzzles and outdoor fun hosted by our very own Gill. u00a0 Cash or Card accepted\, no booking requiredFree onsite/on road parkingDiscounted hot drink with entryu00a0 Under 5’s only
URL:https://theoldboat.co.uk/event/childminder-group/2026-09-01/
LOCATION:The Old Boat Corner Community Centre\, Carden Hill\, Hollingbury\, Brighton\, East Sussex\, BN1 8GD\, United Kingdom
CATEGORIES:Kids,Toddlers,Under 4's,Under 5's
ORGANIZER;CN="Theresa":MAILTO:terris1967@hotmail.com
END:VEVENT
BEGIN:VEVENT
DTSTART;TZID=Europe/London:20260902T093000
DTEND;TZID=Europe/London:20260902T120000
DTSTAMP:20260420T053518
CREATED:20220208T174754Z
LAST-MODIFIED:20251212T135951Z
UID:10018503-1788341400-1788350400@theoldboat.co.uk
SUMMARY:Soft Play
DESCRIPTION:Every Monday morning from 9.30am – 12pm. A selection of soft play\, arts\, crafts\, early learning toys\, puzzles and outdoor fun hosted by our very own Gill. u00a0 Cash or Card accepted\, no booking requiredFree onsite/on road parkingDiscounted hot drink with entryu00a0 Under 5’s only
URL:https://theoldboat.co.uk/event/soft-play-2/2026-09-02/
LOCATION:The Old Boat Corner Community Centre\, Carden Hill\, Hollingbury\, Brighton\, East Sussex\, BN1 8GD\, United Kingdom
CATEGORIES:Kids,Under 5's
ATTACH;FMTTYPE=image/png:https://theoldboat.co.uk/wp-content/uploads/2021/10/Soft-Play-Image-.png
END:VEVENT
BEGIN:VEVENT
DTSTART;TZID=Europe/London:20260903T100000
DTEND;TZID=Europe/London:20260903T150000
DTSTAMP:20260420T053518
CREATED:20220208T142147Z
LAST-MODIFIED:20251212T134948Z
UID:10006481-1788429600-1788447600@theoldboat.co.uk
SUMMARY:Tumble Tots
DESCRIPTION:Every Monday morning from 9.30am – 12pm. A selection of soft play\, arts\, crafts\, early learning toys\, puzzles and outdoor fun hosted by our very own Gill. u00a0 Cash or Card accepted\, no booking requiredFree onsite/on road parkingDiscounted hot drink with entryu00a0 Under 5’s only
URL:https://theoldboat.co.uk/event/tumble-tots/2026-09-03/
LOCATION:The Old Boat Corner Community Centre\, Carden Hill\, Hollingbury\, Brighton\, East Sussex\, BN1 8GD\, United Kingdom
CATEGORIES:Family,Groups,Kids,Parents & Babies,Toddlers,Under 4's,Under 5's
ATTACH;FMTTYPE=image/jpeg:https://theoldboat.co.uk/wp-content/uploads/2022/02/Tumble-Tots-Corporate-Photo-712.jpg
ORGANIZER;CN="James":MAILTO:brighton@tumbletots.com
END:VEVENT
BEGIN:VEVENT
DTSTART;TZID=Europe/London:20260907T093000
DTEND;TZID=Europe/London:20260907T120000
DTSTAMP:20260420T053518
CREATED:20260109T125207Z
LAST-MODIFIED:20260226T133922Z
UID:10020545-1788773400-1788782400@theoldboat.co.uk
SUMMARY:Soft Play\, arts and crafts
DESCRIPTION:Every Monday morning from 9.30am – 12pm. A selection of soft play\, arts\, crafts\, early learning toys\, puzzles and outdoor fun hosted by our very own Gill. u00a0 Cash or Card accepted\, no booking requiredFree onsite/on road parkingDiscounted hot drink with entryu00a0 Under 5’s only
URL:https://theoldboat.co.uk/event/soft-play-arts-and-crafts/2026-09-07/
LOCATION:The Old Boat Corner Community Centre\, Carden Hill\, Hollingbury\, Brighton\, East Sussex\, BN1 8GD\, United Kingdom
CATEGORIES:Kids,Under 5's
ATTACH;FMTTYPE=image/png:https://theoldboat.co.uk/wp-content/uploads/2026/01/image.png
ORGANIZER;CN="Reyna Kothari":MAILTO:info.oldboat@gmail.com
END:VEVENT
BEGIN:VEVENT
DTSTART;TZID=Europe/London:20260908T093000
DTEND;TZID=Europe/London:20260908T120000
DTSTAMP:20260420T053518
CREATED:20211009T203535Z
LAST-MODIFIED:20251212T140149Z
UID:10018790-1788859800-1788868800@theoldboat.co.uk
SUMMARY:Soft Play
DESCRIPTION:Every Monday morning from 9.30am – 12pm. A selection of soft play\, arts\, crafts\, early learning toys\, puzzles and outdoor fun hosted by our very own Gill. u00a0 Cash or Card accepted\, no booking requiredFree onsite/on road parkingDiscounted hot drink with entryu00a0 Under 5’s only
URL:https://theoldboat.co.uk/event/soft-play/2026-09-08/
LOCATION:The Old Boat Corner Community Centre\, Carden Hill\, Hollingbury\, Brighton\, East Sussex\, BN1 8GD\, United Kingdom
CATEGORIES:Kids,Under 5's
ATTACH;FMTTYPE=image/png:https://theoldboat.co.uk/wp-content/uploads/2021/10/Soft-Play-Image-.png
ORGANIZER;CN="Reyna Kothari":MAILTO:info.oldboat@gmail.com
END:VEVENT
BEGIN:VEVENT
DTSTART;TZID=Europe/London:20260908T093000
DTEND;TZID=Europe/London:20260908T130000
DTSTAMP:20260420T053518
CREATED:20220208T180930Z
LAST-MODIFIED:20251212T140534Z
UID:10005060-1788859800-1788872400@theoldboat.co.uk
SUMMARY:Childminder Group
DESCRIPTION:Every Monday morning from 9.30am – 12pm. A selection of soft play\, arts\, crafts\, early learning toys\, puzzles and outdoor fun hosted by our very own Gill. u00a0 Cash or Card accepted\, no booking requiredFree onsite/on road parkingDiscounted hot drink with entryu00a0 Under 5’s only
URL:https://theoldboat.co.uk/event/childminder-group/2026-09-08/
LOCATION:The Old Boat Corner Community Centre\, Carden Hill\, Hollingbury\, Brighton\, East Sussex\, BN1 8GD\, United Kingdom
CATEGORIES:Kids,Toddlers,Under 4's,Under 5's
ORGANIZER;CN="Theresa":MAILTO:terris1967@hotmail.com
END:VEVENT
BEGIN:VEVENT
DTSTART;TZID=Europe/London:20260909T093000
DTEND;TZID=Europe/London:20260909T120000
DTSTAMP:20260420T053518
CREATED:20220208T174754Z
LAST-MODIFIED:20251212T135951Z
UID:10018504-1788946200-1788955200@theoldboat.co.uk
SUMMARY:Soft Play
DESCRIPTION:Every Monday morning from 9.30am – 12pm. A selection of soft play\, arts\, crafts\, early learning toys\, puzzles and outdoor fun hosted by our very own Gill. u00a0 Cash or Card accepted\, no booking requiredFree onsite/on road parkingDiscounted hot drink with entryu00a0 Under 5’s only
URL:https://theoldboat.co.uk/event/soft-play-2/2026-09-09/
LOCATION:The Old Boat Corner Community Centre\, Carden Hill\, Hollingbury\, Brighton\, East Sussex\, BN1 8GD\, United Kingdom
CATEGORIES:Kids,Under 5's
ATTACH;FMTTYPE=image/png:https://theoldboat.co.uk/wp-content/uploads/2021/10/Soft-Play-Image-.png
END:VEVENT
BEGIN:VEVENT
DTSTART;TZID=Europe/London:20260910T100000
DTEND;TZID=Europe/London:20260910T150000
DTSTAMP:20260420T053518
CREATED:20220208T142147Z
LAST-MODIFIED:20251212T134948Z
UID:10006482-1789034400-1789052400@theoldboat.co.uk
SUMMARY:Tumble Tots
DESCRIPTION:Every Monday morning from 9.30am – 12pm. A selection of soft play\, arts\, crafts\, early learning toys\, puzzles and outdoor fun hosted by our very own Gill. u00a0 Cash or Card accepted\, no booking requiredFree onsite/on road parkingDiscounted hot drink with entryu00a0 Under 5’s only
URL:https://theoldboat.co.uk/event/tumble-tots/2026-09-10/
LOCATION:The Old Boat Corner Community Centre\, Carden Hill\, Hollingbury\, Brighton\, East Sussex\, BN1 8GD\, United Kingdom
CATEGORIES:Family,Groups,Kids,Parents & Babies,Toddlers,Under 4's,Under 5's
ATTACH;FMTTYPE=image/jpeg:https://theoldboat.co.uk/wp-content/uploads/2022/02/Tumble-Tots-Corporate-Photo-712.jpg
ORGANIZER;CN="James":MAILTO:brighton@tumbletots.com
END:VEVENT
END:VCALENDAR