BEGIN:VCALENDAR
VERSION:2.0
PRODID:-//The Old Boat Corner Community Centre - ECPv6.15.20//NONSGML v1.0//EN
CALSCALE:GREGORIAN
METHOD:PUBLISH
X-WR-CALNAME:The Old Boat Corner Community Centre
X-ORIGINAL-URL:https://theoldboat.co.uk
X-WR-CALDESC:Events for The Old Boat Corner Community Centre
REFRESH-INTERVAL;VALUE=DURATION:PT1H
X-Robots-Tag:noindex
X-PUBLISHED-TTL:PT1H
BEGIN:VTIMEZONE
TZID:Europe/London
BEGIN:DAYLIGHT
TZOFFSETFROM:+0000
TZOFFSETTO:+0100
TZNAME:BST
DTSTART:20290325T010000
END:DAYLIGHT
BEGIN:STANDARD
TZOFFSETFROM:+0100
TZOFFSETTO:+0000
TZNAME:GMT
DTSTART:20291028T010000
END:STANDARD
BEGIN:DAYLIGHT
TZOFFSETFROM:+0000
TZOFFSETTO:+0100
TZNAME:BST
DTSTART:20300331T010000
END:DAYLIGHT
BEGIN:STANDARD
TZOFFSETFROM:+0100
TZOFFSETTO:+0000
TZNAME:GMT
DTSTART:20301027T010000
END:STANDARD
BEGIN:DAYLIGHT
TZOFFSETFROM:+0000
TZOFFSETTO:+0100
TZNAME:BST
DTSTART:20310330T010000
END:DAYLIGHT
BEGIN:STANDARD
TZOFFSETFROM:+0100
TZOFFSETTO:+0000
TZNAME:GMT
DTSTART:20311026T010000
END:STANDARD
BEGIN:DAYLIGHT
TZOFFSETFROM:+0000
TZOFFSETTO:+0100
TZNAME:BST
DTSTART:20320328T010000
END:DAYLIGHT
BEGIN:STANDARD
TZOFFSETFROM:+0100
TZOFFSETTO:+0000
TZNAME:GMT
DTSTART:20321031T010000
END:STANDARD
END:VTIMEZONE
BEGIN:VEVENT
DTSTART;TZID=Europe/London:20301230T153000
DTEND;TZID=Europe/London:20301230T173000
DTSTAMP:20260425T112036
CREATED:20240820T102911Z
LAST-MODIFIED:20251212T140306Z
UID:10019329-1924875000-1924882200@theoldboat.co.uk
SUMMARY:Free Youth Service by Paypr - for all aged 12 - 17
DESCRIPTION:Safe space to relax; gardening; cafe; table tennis; badminton; Xbox/PS4; football’ basketball and more! \nMONDAYS \n12 – 2pm during summer holidays \n3:30- 5:30pm in term time
URL:https://theoldboat.co.uk/event/free-youth-service-by-paypr-for-all-aged-12-17/2030-12-30/
LOCATION:The Old Boat Corner Community Centre\, Carden Hill\, Hollingbury\, Brighton\, East Sussex\, BN1 8GD\, United Kingdom
END:VEVENT
BEGIN:VEVENT
DTSTART;TZID=Europe/London:20310106T153000
DTEND;TZID=Europe/London:20310106T173000
DTSTAMP:20260425T112036
CREATED:20240820T102911Z
LAST-MODIFIED:20251212T140306Z
UID:10019350-1925479800-1925487000@theoldboat.co.uk
SUMMARY:Free Youth Service by Paypr - for all aged 12 - 17
DESCRIPTION:Safe space to relax; gardening; cafe; table tennis; badminton; Xbox/PS4; football’ basketball and more! \nMONDAYS \n12 – 2pm during summer holidays \n3:30- 5:30pm in term time
URL:https://theoldboat.co.uk/event/free-youth-service-by-paypr-for-all-aged-12-17/2031-01-06/
LOCATION:The Old Boat Corner Community Centre\, Carden Hill\, Hollingbury\, Brighton\, East Sussex\, BN1 8GD\, United Kingdom
END:VEVENT
BEGIN:VEVENT
DTSTART;TZID=Europe/London:20310113T153000
DTEND;TZID=Europe/London:20310113T173000
DTSTAMP:20260425T112036
CREATED:20240820T102911Z
LAST-MODIFIED:20251212T140306Z
UID:10019940-1926084600-1926091800@theoldboat.co.uk
SUMMARY:Free Youth Service by Paypr - for all aged 12 - 17
DESCRIPTION:Safe space to relax; gardening; cafe; table tennis; badminton; Xbox/PS4; football’ basketball and more! \nMONDAYS \n12 – 2pm during summer holidays \n3:30- 5:30pm in term time
URL:https://theoldboat.co.uk/event/free-youth-service-by-paypr-for-all-aged-12-17/2031-01-13/
LOCATION:The Old Boat Corner Community Centre\, Carden Hill\, Hollingbury\, Brighton\, East Sussex\, BN1 8GD\, United Kingdom
END:VEVENT
BEGIN:VEVENT
DTSTART;TZID=Europe/London:20310120T153000
DTEND;TZID=Europe/London:20310120T173000
DTSTAMP:20260425T112036
CREATED:20240820T102911Z
LAST-MODIFIED:20251212T140306Z
UID:10019959-1926689400-1926696600@theoldboat.co.uk
SUMMARY:Free Youth Service by Paypr - for all aged 12 - 17
DESCRIPTION:Safe space to relax; gardening; cafe; table tennis; badminton; Xbox/PS4; football’ basketball and more! \nMONDAYS \n12 – 2pm during summer holidays \n3:30- 5:30pm in term time
URL:https://theoldboat.co.uk/event/free-youth-service-by-paypr-for-all-aged-12-17/2031-01-20/
LOCATION:The Old Boat Corner Community Centre\, Carden Hill\, Hollingbury\, Brighton\, East Sussex\, BN1 8GD\, United Kingdom
END:VEVENT
BEGIN:VEVENT
DTSTART;TZID=Europe/London:20310127T153000
DTEND;TZID=Europe/London:20310127T173000
DTSTAMP:20260425T112036
CREATED:20240820T102911Z
LAST-MODIFIED:20251212T140306Z
UID:10020188-1927294200-1927301400@theoldboat.co.uk
SUMMARY:Free Youth Service by Paypr - for all aged 12 - 17
DESCRIPTION:Safe space to relax; gardening; cafe; table tennis; badminton; Xbox/PS4; football’ basketball and more! \nMONDAYS \n12 – 2pm during summer holidays \n3:30- 5:30pm in term time
URL:https://theoldboat.co.uk/event/free-youth-service-by-paypr-for-all-aged-12-17/2031-01-27/
LOCATION:The Old Boat Corner Community Centre\, Carden Hill\, Hollingbury\, Brighton\, East Sussex\, BN1 8GD\, United Kingdom
END:VEVENT
BEGIN:VEVENT
DTSTART;TZID=Europe/London:20310203T153000
DTEND;TZID=Europe/London:20310203T173000
DTSTAMP:20260425T112036
CREATED:20240820T102911Z
LAST-MODIFIED:20251212T140306Z
UID:10020355-1927899000-1927906200@theoldboat.co.uk
SUMMARY:Free Youth Service by Paypr - for all aged 12 - 17
DESCRIPTION:Safe space to relax; gardening; cafe; table tennis; badminton; Xbox/PS4; football’ basketball and more! \nMONDAYS \n12 – 2pm during summer holidays \n3:30- 5:30pm in term time
URL:https://theoldboat.co.uk/event/free-youth-service-by-paypr-for-all-aged-12-17/2031-02-03/
LOCATION:The Old Boat Corner Community Centre\, Carden Hill\, Hollingbury\, Brighton\, East Sussex\, BN1 8GD\, United Kingdom
END:VEVENT
END:VCALENDAR