BEGIN:VCALENDAR
VERSION:2.0
PRODID:-//The Old Boat Corner Community Centre - ECPv6.15.20//NONSGML v1.0//EN
CALSCALE:GREGORIAN
METHOD:PUBLISH
X-WR-CALNAME:The Old Boat Corner Community Centre
X-ORIGINAL-URL:https://theoldboat.co.uk
X-WR-CALDESC:Events for The Old Boat Corner Community Centre
REFRESH-INTERVAL;VALUE=DURATION:PT1H
X-Robots-Tag:noindex
X-PUBLISHED-TTL:PT1H
BEGIN:VTIMEZONE
TZID:Europe/London
BEGIN:DAYLIGHT
TZOFFSETFROM:+0000
TZOFFSETTO:+0100
TZNAME:BST
DTSTART:20240331T010000
END:DAYLIGHT
BEGIN:STANDARD
TZOFFSETFROM:+0100
TZOFFSETTO:+0000
TZNAME:GMT
DTSTART:20241027T010000
END:STANDARD
BEGIN:DAYLIGHT
TZOFFSETFROM:+0000
TZOFFSETTO:+0100
TZNAME:BST
DTSTART:20250330T010000
END:DAYLIGHT
BEGIN:STANDARD
TZOFFSETFROM:+0100
TZOFFSETTO:+0000
TZNAME:GMT
DTSTART:20251026T010000
END:STANDARD
BEGIN:DAYLIGHT
TZOFFSETFROM:+0000
TZOFFSETTO:+0100
TZNAME:BST
DTSTART:20260329T010000
END:DAYLIGHT
BEGIN:STANDARD
TZOFFSETFROM:+0100
TZOFFSETTO:+0000
TZNAME:GMT
DTSTART:20261025T010000
END:STANDARD
END:VTIMEZONE
BEGIN:VEVENT
DTSTART;TZID=Europe/London:20251022T130000
DTEND;TZID=Europe/London:20251022T140000
DTSTAMP:20260422T055112
CREATED:20230906T110610Z
LAST-MODIFIED:20251212T135014Z
UID:10006908-1761138000-1761141600@theoldboat.co.uk
SUMMARY:International Women's Group
DESCRIPTION:Come and join this weekly group for women from diverse cultures and backgrounds and get support with things that you may need.
URL:https://theoldboat.co.uk/event/international-womens-group/2025-10-22/
LOCATION:The Old Boat Corner Community Centre\, Carden Hill\, Hollingbury\, Brighton\, East Sussex\, BN1 8GD\, United Kingdom
CATEGORIES:18+,Arts & Crafts,Community,Groups
ATTACH;FMTTYPE=application/pdf:https://theoldboat.co.uk/wp-content/uploads/2023/09/Untitled.pdf
ORGANIZER;CN="Old Boat Corner":MAILTO:info.oldboat@gmail.com
END:VEVENT
BEGIN:VEVENT
DTSTART;TZID=Europe/London:20251022T093000
DTEND;TZID=Europe/London:20251022T120000
DTSTAMP:20260422T055112
CREATED:20220208T174754Z
LAST-MODIFIED:20251212T135951Z
UID:10018460-1761125400-1761134400@theoldboat.co.uk
SUMMARY:Soft Play
DESCRIPTION:Every Wednesday morning from 9.30am – 12pm. Come along and let you little ones loose in our fun filled soft play in the main hall. Includes ride on cars\, slides and ball pit. Cash and card accepted\, no booking required. \nUnder 5’s only
URL:https://theoldboat.co.uk/event/soft-play-2/2025-10-22/
LOCATION:The Old Boat Corner Community Centre\, Carden Hill\, Hollingbury\, Brighton\, East Sussex\, BN1 8GD\, United Kingdom
CATEGORIES:Kids,Under 5's
ATTACH;FMTTYPE=image/png:https://theoldboat.co.uk/wp-content/uploads/2021/10/Soft-Play-Image-.png
END:VEVENT
BEGIN:VEVENT
DTSTART;TZID=Europe/London:20251021T184500
DTEND;TZID=Europe/London:20251021T194500
DTSTAMP:20260422T055112
CREATED:20250317T123127Z
LAST-MODIFIED:20251212T141228Z
UID:10012541-1761072300-1761075900@theoldboat.co.uk
SUMMARY:Pilates for All
DESCRIPTION:
URL:https://theoldboat.co.uk/event/pilates-for-all-4/2025-10-21/
LOCATION:The Old Boat Corner Community Centre\, Carden Hill\, Hollingbury\, Brighton\, East Sussex\, BN1 8GD\, United Kingdom
END:VEVENT
END:VCALENDAR