BEGIN:VCALENDAR
VERSION:2.0
PRODID:-//The Old Boat Corner Community Centre - ECPv6.15.20//NONSGML v1.0//EN
CALSCALE:GREGORIAN
METHOD:PUBLISH
X-ORIGINAL-URL:https://theoldboat.co.uk
X-WR-CALDESC:Events for The Old Boat Corner Community Centre
REFRESH-INTERVAL;VALUE=DURATION:PT1H
X-Robots-Tag:noindex
X-PUBLISHED-TTL:PT1H
BEGIN:VTIMEZONE
TZID:Europe/London
BEGIN:DAYLIGHT
TZOFFSETFROM:+0000
TZOFFSETTO:+0100
TZNAME:BST
DTSTART:20280326T010000
END:DAYLIGHT
BEGIN:STANDARD
TZOFFSETFROM:+0100
TZOFFSETTO:+0000
TZNAME:GMT
DTSTART:20281029T010000
END:STANDARD
BEGIN:DAYLIGHT
TZOFFSETFROM:+0000
TZOFFSETTO:+0100
TZNAME:BST
DTSTART:20290325T010000
END:DAYLIGHT
BEGIN:STANDARD
TZOFFSETFROM:+0100
TZOFFSETTO:+0000
TZNAME:GMT
DTSTART:20291028T010000
END:STANDARD
BEGIN:DAYLIGHT
TZOFFSETFROM:+0000
TZOFFSETTO:+0100
TZNAME:BST
DTSTART:20300331T010000
END:DAYLIGHT
BEGIN:STANDARD
TZOFFSETFROM:+0100
TZOFFSETTO:+0000
TZNAME:GMT
DTSTART:20301027T010000
END:STANDARD
BEGIN:DAYLIGHT
TZOFFSETFROM:+0000
TZOFFSETTO:+0100
TZNAME:BST
DTSTART:20310330T010000
END:DAYLIGHT
BEGIN:STANDARD
TZOFFSETFROM:+0100
TZOFFSETTO:+0000
TZNAME:GMT
DTSTART:20311026T010000
END:STANDARD
END:VTIMEZONE
BEGIN:VEVENT
DTSTART;TZID=Europe/London:20291105T153000
DTEND;TZID=Europe/London:20291105T173000
DTSTAMP:20260425T031327
CREATED:20240820T102911Z
LAST-MODIFIED:20251212T140306Z
UID:10012176-1888587000-1888594200@theoldboat.co.uk
SUMMARY:Free Youth Service by Paypr - for all aged 12 - 17
DESCRIPTION:Safe space to relax; gardening; cafe; table tennis; badminton; Xbox/PS4; football’ basketball and more! \nMONDAYS \n12 – 2pm during summer holidays \n3:30- 5:30pm in term time
URL:https://theoldboat.co.uk/event/free-youth-service-by-paypr-for-all-aged-12-17/2029-11-05/
LOCATION:The Old Boat Corner Community Centre\, Carden Hill\, Hollingbury\, Brighton\, East Sussex\, BN1 8GD\, United Kingdom
END:VEVENT
BEGIN:VEVENT
DTSTART;TZID=Europe/London:20291112T153000
DTEND;TZID=Europe/London:20291112T173000
DTSTAMP:20260425T031327
CREATED:20240820T102911Z
LAST-MODIFIED:20251212T140306Z
UID:10012177-1889191800-1889199000@theoldboat.co.uk
SUMMARY:Free Youth Service by Paypr - for all aged 12 - 17
DESCRIPTION:Safe space to relax; gardening; cafe; table tennis; badminton; Xbox/PS4; football’ basketball and more! \nMONDAYS \n12 – 2pm during summer holidays \n3:30- 5:30pm in term time
URL:https://theoldboat.co.uk/event/free-youth-service-by-paypr-for-all-aged-12-17/2029-11-12/
LOCATION:The Old Boat Corner Community Centre\, Carden Hill\, Hollingbury\, Brighton\, East Sussex\, BN1 8GD\, United Kingdom
END:VEVENT
BEGIN:VEVENT
DTSTART;TZID=Europe/London:20291119T153000
DTEND;TZID=Europe/London:20291119T173000
DTSTAMP:20260425T031327
CREATED:20240820T102911Z
LAST-MODIFIED:20251212T140306Z
UID:10012178-1889796600-1889803800@theoldboat.co.uk
SUMMARY:Free Youth Service by Paypr - for all aged 12 - 17
DESCRIPTION:Safe space to relax; gardening; cafe; table tennis; badminton; Xbox/PS4; football’ basketball and more! \nMONDAYS \n12 – 2pm during summer holidays \n3:30- 5:30pm in term time
URL:https://theoldboat.co.uk/event/free-youth-service-by-paypr-for-all-aged-12-17/2029-11-19/
LOCATION:The Old Boat Corner Community Centre\, Carden Hill\, Hollingbury\, Brighton\, East Sussex\, BN1 8GD\, United Kingdom
END:VEVENT
BEGIN:VEVENT
DTSTART;TZID=Europe/London:20291126T153000
DTEND;TZID=Europe/London:20291126T173000
DTSTAMP:20260425T031327
CREATED:20240820T102911Z
LAST-MODIFIED:20251212T140306Z
UID:10012179-1890401400-1890408600@theoldboat.co.uk
SUMMARY:Free Youth Service by Paypr - for all aged 12 - 17
DESCRIPTION:Safe space to relax; gardening; cafe; table tennis; badminton; Xbox/PS4; football’ basketball and more! \nMONDAYS \n12 – 2pm during summer holidays \n3:30- 5:30pm in term time
URL:https://theoldboat.co.uk/event/free-youth-service-by-paypr-for-all-aged-12-17/2029-11-26/
LOCATION:The Old Boat Corner Community Centre\, Carden Hill\, Hollingbury\, Brighton\, East Sussex\, BN1 8GD\, United Kingdom
END:VEVENT
BEGIN:VEVENT
DTSTART;TZID=Europe/London:20291203T153000
DTEND;TZID=Europe/London:20291203T173000
DTSTAMP:20260425T031327
CREATED:20240820T102911Z
LAST-MODIFIED:20251212T140306Z
UID:10012180-1891006200-1891013400@theoldboat.co.uk
SUMMARY:Free Youth Service by Paypr - for all aged 12 - 17
DESCRIPTION:Safe space to relax; gardening; cafe; table tennis; badminton; Xbox/PS4; football’ basketball and more! \nMONDAYS \n12 – 2pm during summer holidays \n3:30- 5:30pm in term time
URL:https://theoldboat.co.uk/event/free-youth-service-by-paypr-for-all-aged-12-17/2029-12-03/
LOCATION:The Old Boat Corner Community Centre\, Carden Hill\, Hollingbury\, Brighton\, East Sussex\, BN1 8GD\, United Kingdom
END:VEVENT
BEGIN:VEVENT
DTSTART;TZID=Europe/London:20291210T153000
DTEND;TZID=Europe/London:20291210T173000
DTSTAMP:20260425T031327
CREATED:20240820T102911Z
LAST-MODIFIED:20251212T140306Z
UID:10012181-1891611000-1891618200@theoldboat.co.uk
SUMMARY:Free Youth Service by Paypr - for all aged 12 - 17
DESCRIPTION:Safe space to relax; gardening; cafe; table tennis; badminton; Xbox/PS4; football’ basketball and more! \nMONDAYS \n12 – 2pm during summer holidays \n3:30- 5:30pm in term time
URL:https://theoldboat.co.uk/event/free-youth-service-by-paypr-for-all-aged-12-17/2029-12-10/
LOCATION:The Old Boat Corner Community Centre\, Carden Hill\, Hollingbury\, Brighton\, East Sussex\, BN1 8GD\, United Kingdom
END:VEVENT
BEGIN:VEVENT
DTSTART;TZID=Europe/London:20291217T153000
DTEND;TZID=Europe/London:20291217T173000
DTSTAMP:20260425T031327
CREATED:20240820T102911Z
LAST-MODIFIED:20251212T140306Z
UID:10012182-1892215800-1892223000@theoldboat.co.uk
SUMMARY:Free Youth Service by Paypr - for all aged 12 - 17
DESCRIPTION:Safe space to relax; gardening; cafe; table tennis; badminton; Xbox/PS4; football’ basketball and more! \nMONDAYS \n12 – 2pm during summer holidays \n3:30- 5:30pm in term time
URL:https://theoldboat.co.uk/event/free-youth-service-by-paypr-for-all-aged-12-17/2029-12-17/
LOCATION:The Old Boat Corner Community Centre\, Carden Hill\, Hollingbury\, Brighton\, East Sussex\, BN1 8GD\, United Kingdom
END:VEVENT
BEGIN:VEVENT
DTSTART;TZID=Europe/London:20291224T153000
DTEND;TZID=Europe/London:20291224T173000
DTSTAMP:20260425T031327
CREATED:20240820T102911Z
LAST-MODIFIED:20251212T140306Z
UID:10012183-1892820600-1892827800@theoldboat.co.uk
SUMMARY:Free Youth Service by Paypr - for all aged 12 - 17
DESCRIPTION:Safe space to relax; gardening; cafe; table tennis; badminton; Xbox/PS4; football’ basketball and more! \nMONDAYS \n12 – 2pm during summer holidays \n3:30- 5:30pm in term time
URL:https://theoldboat.co.uk/event/free-youth-service-by-paypr-for-all-aged-12-17/2029-12-24/
LOCATION:The Old Boat Corner Community Centre\, Carden Hill\, Hollingbury\, Brighton\, East Sussex\, BN1 8GD\, United Kingdom
END:VEVENT
BEGIN:VEVENT
DTSTART;TZID=Europe/London:20291231T153000
DTEND;TZID=Europe/London:20291231T173000
DTSTAMP:20260425T031327
CREATED:20240820T102911Z
LAST-MODIFIED:20251212T140306Z
UID:10012184-1893425400-1893432600@theoldboat.co.uk
SUMMARY:Free Youth Service by Paypr - for all aged 12 - 17
DESCRIPTION:Safe space to relax; gardening; cafe; table tennis; badminton; Xbox/PS4; football’ basketball and more! \nMONDAYS \n12 – 2pm during summer holidays \n3:30- 5:30pm in term time
URL:https://theoldboat.co.uk/event/free-youth-service-by-paypr-for-all-aged-12-17/2029-12-31/
LOCATION:The Old Boat Corner Community Centre\, Carden Hill\, Hollingbury\, Brighton\, East Sussex\, BN1 8GD\, United Kingdom
END:VEVENT
BEGIN:VEVENT
DTSTART;TZID=Europe/London:20300107T153000
DTEND;TZID=Europe/London:20300107T173000
DTSTAMP:20260425T031327
CREATED:20240820T102911Z
LAST-MODIFIED:20251212T140306Z
UID:10012185-1894030200-1894037400@theoldboat.co.uk
SUMMARY:Free Youth Service by Paypr - for all aged 12 - 17
DESCRIPTION:Safe space to relax; gardening; cafe; table tennis; badminton; Xbox/PS4; football’ basketball and more! \nMONDAYS \n12 – 2pm during summer holidays \n3:30- 5:30pm in term time
URL:https://theoldboat.co.uk/event/free-youth-service-by-paypr-for-all-aged-12-17/2030-01-07/
LOCATION:The Old Boat Corner Community Centre\, Carden Hill\, Hollingbury\, Brighton\, East Sussex\, BN1 8GD\, United Kingdom
END:VEVENT
BEGIN:VEVENT
DTSTART;TZID=Europe/London:20300114T153000
DTEND;TZID=Europe/London:20300114T173000
DTSTAMP:20260425T031327
CREATED:20240820T102911Z
LAST-MODIFIED:20251212T140306Z
UID:10012186-1894635000-1894642200@theoldboat.co.uk
SUMMARY:Free Youth Service by Paypr - for all aged 12 - 17
DESCRIPTION:Safe space to relax; gardening; cafe; table tennis; badminton; Xbox/PS4; football’ basketball and more! \nMONDAYS \n12 – 2pm during summer holidays \n3:30- 5:30pm in term time
URL:https://theoldboat.co.uk/event/free-youth-service-by-paypr-for-all-aged-12-17/2030-01-14/
LOCATION:The Old Boat Corner Community Centre\, Carden Hill\, Hollingbury\, Brighton\, East Sussex\, BN1 8GD\, United Kingdom
END:VEVENT
BEGIN:VEVENT
DTSTART;TZID=Europe/London:20300121T153000
DTEND;TZID=Europe/London:20300121T173000
DTSTAMP:20260425T031327
CREATED:20240820T102911Z
LAST-MODIFIED:20251212T140306Z
UID:10012187-1895239800-1895247000@theoldboat.co.uk
SUMMARY:Free Youth Service by Paypr - for all aged 12 - 17
DESCRIPTION:Safe space to relax; gardening; cafe; table tennis; badminton; Xbox/PS4; football’ basketball and more! \nMONDAYS \n12 – 2pm during summer holidays \n3:30- 5:30pm in term time
URL:https://theoldboat.co.uk/event/free-youth-service-by-paypr-for-all-aged-12-17/2030-01-21/
LOCATION:The Old Boat Corner Community Centre\, Carden Hill\, Hollingbury\, Brighton\, East Sussex\, BN1 8GD\, United Kingdom
END:VEVENT
BEGIN:VEVENT
DTSTART;TZID=Europe/London:20300128T153000
DTEND;TZID=Europe/London:20300128T173000
DTSTAMP:20260425T031327
CREATED:20240820T102911Z
LAST-MODIFIED:20251212T140306Z
UID:10012188-1895844600-1895851800@theoldboat.co.uk
SUMMARY:Free Youth Service by Paypr - for all aged 12 - 17
DESCRIPTION:Safe space to relax; gardening; cafe; table tennis; badminton; Xbox/PS4; football’ basketball and more! \nMONDAYS \n12 – 2pm during summer holidays \n3:30- 5:30pm in term time
URL:https://theoldboat.co.uk/event/free-youth-service-by-paypr-for-all-aged-12-17/2030-01-28/
LOCATION:The Old Boat Corner Community Centre\, Carden Hill\, Hollingbury\, Brighton\, East Sussex\, BN1 8GD\, United Kingdom
END:VEVENT
BEGIN:VEVENT
DTSTART;TZID=Europe/London:20300204T153000
DTEND;TZID=Europe/London:20300204T173000
DTSTAMP:20260425T031327
CREATED:20240820T102911Z
LAST-MODIFIED:20251212T140306Z
UID:10012189-1896449400-1896456600@theoldboat.co.uk
SUMMARY:Free Youth Service by Paypr - for all aged 12 - 17
DESCRIPTION:Safe space to relax; gardening; cafe; table tennis; badminton; Xbox/PS4; football’ basketball and more! \nMONDAYS \n12 – 2pm during summer holidays \n3:30- 5:30pm in term time
URL:https://theoldboat.co.uk/event/free-youth-service-by-paypr-for-all-aged-12-17/2030-02-04/
LOCATION:The Old Boat Corner Community Centre\, Carden Hill\, Hollingbury\, Brighton\, East Sussex\, BN1 8GD\, United Kingdom
END:VEVENT
BEGIN:VEVENT
DTSTART;TZID=Europe/London:20300211T153000
DTEND;TZID=Europe/London:20300211T173000
DTSTAMP:20260425T031327
CREATED:20240820T102911Z
LAST-MODIFIED:20251212T140306Z
UID:10012190-1897054200-1897061400@theoldboat.co.uk
SUMMARY:Free Youth Service by Paypr - for all aged 12 - 17
DESCRIPTION:Safe space to relax; gardening; cafe; table tennis; badminton; Xbox/PS4; football’ basketball and more! \nMONDAYS \n12 – 2pm during summer holidays \n3:30- 5:30pm in term time
URL:https://theoldboat.co.uk/event/free-youth-service-by-paypr-for-all-aged-12-17/2030-02-11/
LOCATION:The Old Boat Corner Community Centre\, Carden Hill\, Hollingbury\, Brighton\, East Sussex\, BN1 8GD\, United Kingdom
END:VEVENT
BEGIN:VEVENT
DTSTART;TZID=Europe/London:20300218T153000
DTEND;TZID=Europe/London:20300218T173000
DTSTAMP:20260425T031327
CREATED:20240820T102911Z
LAST-MODIFIED:20251212T140306Z
UID:10012191-1897659000-1897666200@theoldboat.co.uk
SUMMARY:Free Youth Service by Paypr - for all aged 12 - 17
DESCRIPTION:Safe space to relax; gardening; cafe; table tennis; badminton; Xbox/PS4; football’ basketball and more! \nMONDAYS \n12 – 2pm during summer holidays \n3:30- 5:30pm in term time
URL:https://theoldboat.co.uk/event/free-youth-service-by-paypr-for-all-aged-12-17/2030-02-18/
LOCATION:The Old Boat Corner Community Centre\, Carden Hill\, Hollingbury\, Brighton\, East Sussex\, BN1 8GD\, United Kingdom
END:VEVENT
BEGIN:VEVENT
DTSTART;TZID=Europe/London:20300225T153000
DTEND;TZID=Europe/London:20300225T173000
DTSTAMP:20260425T031327
CREATED:20240820T102911Z
LAST-MODIFIED:20251212T140306Z
UID:10012192-1898263800-1898271000@theoldboat.co.uk
SUMMARY:Free Youth Service by Paypr - for all aged 12 - 17
DESCRIPTION:Safe space to relax; gardening; cafe; table tennis; badminton; Xbox/PS4; football’ basketball and more! \nMONDAYS \n12 – 2pm during summer holidays \n3:30- 5:30pm in term time
URL:https://theoldboat.co.uk/event/free-youth-service-by-paypr-for-all-aged-12-17/2030-02-25/
LOCATION:The Old Boat Corner Community Centre\, Carden Hill\, Hollingbury\, Brighton\, East Sussex\, BN1 8GD\, United Kingdom
END:VEVENT
BEGIN:VEVENT
DTSTART;TZID=Europe/London:20300304T153000
DTEND;TZID=Europe/London:20300304T173000
DTSTAMP:20260425T031327
CREATED:20240820T102911Z
LAST-MODIFIED:20251212T140306Z
UID:10012209-1898868600-1898875800@theoldboat.co.uk
SUMMARY:Free Youth Service by Paypr - for all aged 12 - 17
DESCRIPTION:Safe space to relax; gardening; cafe; table tennis; badminton; Xbox/PS4; football’ basketball and more! \nMONDAYS \n12 – 2pm during summer holidays \n3:30- 5:30pm in term time
URL:https://theoldboat.co.uk/event/free-youth-service-by-paypr-for-all-aged-12-17/2030-03-04/
LOCATION:The Old Boat Corner Community Centre\, Carden Hill\, Hollingbury\, Brighton\, East Sussex\, BN1 8GD\, United Kingdom
END:VEVENT
BEGIN:VEVENT
DTSTART;TZID=Europe/London:20300311T153000
DTEND;TZID=Europe/London:20300311T173000
DTSTAMP:20260425T031327
CREATED:20240820T102911Z
LAST-MODIFIED:20251212T140306Z
UID:10012600-1899473400-1899480600@theoldboat.co.uk
SUMMARY:Free Youth Service by Paypr - for all aged 12 - 17
DESCRIPTION:Safe space to relax; gardening; cafe; table tennis; badminton; Xbox/PS4; football’ basketball and more! \nMONDAYS \n12 – 2pm during summer holidays \n3:30- 5:30pm in term time
URL:https://theoldboat.co.uk/event/free-youth-service-by-paypr-for-all-aged-12-17/2030-03-11/
LOCATION:The Old Boat Corner Community Centre\, Carden Hill\, Hollingbury\, Brighton\, East Sussex\, BN1 8GD\, United Kingdom
END:VEVENT
BEGIN:VEVENT
DTSTART;TZID=Europe/London:20300318T153000
DTEND;TZID=Europe/London:20300318T173000
DTSTAMP:20260425T031327
CREATED:20240820T102911Z
LAST-MODIFIED:20251212T140306Z
UID:10012614-1900078200-1900085400@theoldboat.co.uk
SUMMARY:Free Youth Service by Paypr - for all aged 12 - 17
DESCRIPTION:Safe space to relax; gardening; cafe; table tennis; badminton; Xbox/PS4; football’ basketball and more! \nMONDAYS \n12 – 2pm during summer holidays \n3:30- 5:30pm in term time
URL:https://theoldboat.co.uk/event/free-youth-service-by-paypr-for-all-aged-12-17/2030-03-18/
LOCATION:The Old Boat Corner Community Centre\, Carden Hill\, Hollingbury\, Brighton\, East Sussex\, BN1 8GD\, United Kingdom
END:VEVENT
BEGIN:VEVENT
DTSTART;TZID=Europe/London:20300325T153000
DTEND;TZID=Europe/London:20300325T173000
DTSTAMP:20260425T031327
CREATED:20240820T102911Z
LAST-MODIFIED:20251212T140306Z
UID:10012630-1900683000-1900690200@theoldboat.co.uk
SUMMARY:Free Youth Service by Paypr - for all aged 12 - 17
DESCRIPTION:Safe space to relax; gardening; cafe; table tennis; badminton; Xbox/PS4; football’ basketball and more! \nMONDAYS \n12 – 2pm during summer holidays \n3:30- 5:30pm in term time
URL:https://theoldboat.co.uk/event/free-youth-service-by-paypr-for-all-aged-12-17/2030-03-25/
LOCATION:The Old Boat Corner Community Centre\, Carden Hill\, Hollingbury\, Brighton\, East Sussex\, BN1 8GD\, United Kingdom
END:VEVENT
BEGIN:VEVENT
DTSTART;TZID=Europe/London:20300401T153000
DTEND;TZID=Europe/London:20300401T173000
DTSTAMP:20260425T031327
CREATED:20240820T102911Z
LAST-MODIFIED:20251212T140306Z
UID:10012631-1901287800-1901295000@theoldboat.co.uk
SUMMARY:Free Youth Service by Paypr - for all aged 12 - 17
DESCRIPTION:Safe space to relax; gardening; cafe; table tennis; badminton; Xbox/PS4; football’ basketball and more! \nMONDAYS \n12 – 2pm during summer holidays \n3:30- 5:30pm in term time
URL:https://theoldboat.co.uk/event/free-youth-service-by-paypr-for-all-aged-12-17/2030-04-01/
LOCATION:The Old Boat Corner Community Centre\, Carden Hill\, Hollingbury\, Brighton\, East Sussex\, BN1 8GD\, United Kingdom
END:VEVENT
BEGIN:VEVENT
DTSTART;TZID=Europe/London:20300408T153000
DTEND;TZID=Europe/London:20300408T173000
DTSTAMP:20260425T031327
CREATED:20240820T102911Z
LAST-MODIFIED:20251212T140306Z
UID:10012650-1901892600-1901899800@theoldboat.co.uk
SUMMARY:Free Youth Service by Paypr - for all aged 12 - 17
DESCRIPTION:Safe space to relax; gardening; cafe; table tennis; badminton; Xbox/PS4; football’ basketball and more! \nMONDAYS \n12 – 2pm during summer holidays \n3:30- 5:30pm in term time
URL:https://theoldboat.co.uk/event/free-youth-service-by-paypr-for-all-aged-12-17/2030-04-08/
LOCATION:The Old Boat Corner Community Centre\, Carden Hill\, Hollingbury\, Brighton\, East Sussex\, BN1 8GD\, United Kingdom
END:VEVENT
BEGIN:VEVENT
DTSTART;TZID=Europe/London:20300415T153000
DTEND;TZID=Europe/London:20300415T173000
DTSTAMP:20260425T031327
CREATED:20240820T102911Z
LAST-MODIFIED:20251212T140306Z
UID:10012669-1902497400-1902504600@theoldboat.co.uk
SUMMARY:Free Youth Service by Paypr - for all aged 12 - 17
DESCRIPTION:Safe space to relax; gardening; cafe; table tennis; badminton; Xbox/PS4; football’ basketball and more! \nMONDAYS \n12 – 2pm during summer holidays \n3:30- 5:30pm in term time
URL:https://theoldboat.co.uk/event/free-youth-service-by-paypr-for-all-aged-12-17/2030-04-15/
LOCATION:The Old Boat Corner Community Centre\, Carden Hill\, Hollingbury\, Brighton\, East Sussex\, BN1 8GD\, United Kingdom
END:VEVENT
BEGIN:VEVENT
DTSTART;TZID=Europe/London:20300422T153000
DTEND;TZID=Europe/London:20300422T173000
DTSTAMP:20260425T031327
CREATED:20240820T102911Z
LAST-MODIFIED:20251212T140306Z
UID:10012680-1903102200-1903109400@theoldboat.co.uk
SUMMARY:Free Youth Service by Paypr - for all aged 12 - 17
DESCRIPTION:Safe space to relax; gardening; cafe; table tennis; badminton; Xbox/PS4; football’ basketball and more! \nMONDAYS \n12 – 2pm during summer holidays \n3:30- 5:30pm in term time
URL:https://theoldboat.co.uk/event/free-youth-service-by-paypr-for-all-aged-12-17/2030-04-22/
LOCATION:The Old Boat Corner Community Centre\, Carden Hill\, Hollingbury\, Brighton\, East Sussex\, BN1 8GD\, United Kingdom
END:VEVENT
BEGIN:VEVENT
DTSTART;TZID=Europe/London:20300429T153000
DTEND;TZID=Europe/London:20300429T173000
DTSTAMP:20260425T031327
CREATED:20240820T102911Z
LAST-MODIFIED:20251212T140306Z
UID:10012698-1903707000-1903714200@theoldboat.co.uk
SUMMARY:Free Youth Service by Paypr - for all aged 12 - 17
DESCRIPTION:Safe space to relax; gardening; cafe; table tennis; badminton; Xbox/PS4; football’ basketball and more! \nMONDAYS \n12 – 2pm during summer holidays \n3:30- 5:30pm in term time
URL:https://theoldboat.co.uk/event/free-youth-service-by-paypr-for-all-aged-12-17/2030-04-29/
LOCATION:The Old Boat Corner Community Centre\, Carden Hill\, Hollingbury\, Brighton\, East Sussex\, BN1 8GD\, United Kingdom
END:VEVENT
BEGIN:VEVENT
DTSTART;TZID=Europe/London:20300506T153000
DTEND;TZID=Europe/London:20300506T173000
DTSTAMP:20260425T031327
CREATED:20240820T102911Z
LAST-MODIFIED:20251212T140306Z
UID:10012737-1904311800-1904319000@theoldboat.co.uk
SUMMARY:Free Youth Service by Paypr - for all aged 12 - 17
DESCRIPTION:Safe space to relax; gardening; cafe; table tennis; badminton; Xbox/PS4; football’ basketball and more! \nMONDAYS \n12 – 2pm during summer holidays \n3:30- 5:30pm in term time
URL:https://theoldboat.co.uk/event/free-youth-service-by-paypr-for-all-aged-12-17/2030-05-06/
LOCATION:The Old Boat Corner Community Centre\, Carden Hill\, Hollingbury\, Brighton\, East Sussex\, BN1 8GD\, United Kingdom
END:VEVENT
BEGIN:VEVENT
DTSTART;TZID=Europe/London:20300513T153000
DTEND;TZID=Europe/London:20300513T173000
DTSTAMP:20260425T031327
CREATED:20240820T102911Z
LAST-MODIFIED:20251212T140306Z
UID:10012738-1904916600-1904923800@theoldboat.co.uk
SUMMARY:Free Youth Service by Paypr - for all aged 12 - 17
DESCRIPTION:Safe space to relax; gardening; cafe; table tennis; badminton; Xbox/PS4; football’ basketball and more! \nMONDAYS \n12 – 2pm during summer holidays \n3:30- 5:30pm in term time
URL:https://theoldboat.co.uk/event/free-youth-service-by-paypr-for-all-aged-12-17/2030-05-13/
LOCATION:The Old Boat Corner Community Centre\, Carden Hill\, Hollingbury\, Brighton\, East Sussex\, BN1 8GD\, United Kingdom
END:VEVENT
BEGIN:VEVENT
DTSTART;TZID=Europe/London:20300520T153000
DTEND;TZID=Europe/London:20300520T173000
DTSTAMP:20260425T031327
CREATED:20240820T102911Z
LAST-MODIFIED:20251212T140306Z
UID:10012758-1905521400-1905528600@theoldboat.co.uk
SUMMARY:Free Youth Service by Paypr - for all aged 12 - 17
DESCRIPTION:Safe space to relax; gardening; cafe; table tennis; badminton; Xbox/PS4; football’ basketball and more! \nMONDAYS \n12 – 2pm during summer holidays \n3:30- 5:30pm in term time
URL:https://theoldboat.co.uk/event/free-youth-service-by-paypr-for-all-aged-12-17/2030-05-20/
LOCATION:The Old Boat Corner Community Centre\, Carden Hill\, Hollingbury\, Brighton\, East Sussex\, BN1 8GD\, United Kingdom
END:VEVENT
BEGIN:VEVENT
DTSTART;TZID=Europe/London:20300527T153000
DTEND;TZID=Europe/London:20300527T173000
DTSTAMP:20260425T031327
CREATED:20240820T102911Z
LAST-MODIFIED:20251212T140306Z
UID:10016570-1906126200-1906133400@theoldboat.co.uk
SUMMARY:Free Youth Service by Paypr - for all aged 12 - 17
DESCRIPTION:Safe space to relax; gardening; cafe; table tennis; badminton; Xbox/PS4; football’ basketball and more! \nMONDAYS \n12 – 2pm during summer holidays \n3:30- 5:30pm in term time
URL:https://theoldboat.co.uk/event/free-youth-service-by-paypr-for-all-aged-12-17/2030-05-27/
LOCATION:The Old Boat Corner Community Centre\, Carden Hill\, Hollingbury\, Brighton\, East Sussex\, BN1 8GD\, United Kingdom
END:VEVENT
END:VCALENDAR