BEGIN:VCALENDAR
VERSION:2.0
PRODID:-//The Old Boat Corner Community Centre - ECPv6.15.20//NONSGML v1.0//EN
CALSCALE:GREGORIAN
METHOD:PUBLISH
X-ORIGINAL-URL:https://theoldboat.co.uk
X-WR-CALDESC:Events for The Old Boat Corner Community Centre
REFRESH-INTERVAL;VALUE=DURATION:PT1H
X-Robots-Tag:noindex
X-PUBLISHED-TTL:PT1H
BEGIN:VTIMEZONE
TZID:Europe/London
BEGIN:DAYLIGHT
TZOFFSETFROM:+0000
TZOFFSETTO:+0100
TZNAME:BST
DTSTART:20250330T010000
END:DAYLIGHT
BEGIN:STANDARD
TZOFFSETFROM:+0100
TZOFFSETTO:+0000
TZNAME:GMT
DTSTART:20251026T010000
END:STANDARD
BEGIN:DAYLIGHT
TZOFFSETFROM:+0000
TZOFFSETTO:+0100
TZNAME:BST
DTSTART:20260329T010000
END:DAYLIGHT
BEGIN:STANDARD
TZOFFSETFROM:+0100
TZOFFSETTO:+0000
TZNAME:GMT
DTSTART:20261025T010000
END:STANDARD
BEGIN:DAYLIGHT
TZOFFSETFROM:+0000
TZOFFSETTO:+0100
TZNAME:BST
DTSTART:20270328T010000
END:DAYLIGHT
BEGIN:STANDARD
TZOFFSETFROM:+0100
TZOFFSETTO:+0000
TZNAME:GMT
DTSTART:20271031T010000
END:STANDARD
END:VTIMEZONE
BEGIN:VEVENT
DTSTART;TZID=Europe/London:20260430T164500
DTEND;TZID=Europe/London:20260430T174500
DTSTAMP:20260425T163443
CREATED:20260417T123521Z
LAST-MODIFIED:20260417T123522Z
UID:10008036-1777567500-1777571100@theoldboat.co.uk
SUMMARY:Basketball Sessions- Girls Only (Term Time Only)
DESCRIPTION:Basketball sessions for young people ages 8-11 years old. The ages are flexible so please enquire if you would like to take part. \nPlease note that you need to email annebav@btinternet.com or call 07809 105300 for more infomation or to book a space \n  \n  \n 
URL:https://theoldboat.co.uk/event/free-basketball-sessions-girls-only-term-time-only-2/2026-04-30/
LOCATION:The Old Boat Corner Community Centre\, Carden Hill\, Hollingbury\, Brighton\, East Sussex\, BN1 8GD\, United Kingdom
ATTACH;FMTTYPE=image/jpeg:https://theoldboat.co.uk/wp-content/uploads/2024/02/Basketball-Post-2026.jpg
ORGANIZER;CN="Old Boat Corner":MAILTO:info.oldboat@gmail.com
END:VEVENT
END:VCALENDAR